BEGIN:VCALENDAR
VERSION:2.0
PRODID:-//The Kahala Luxury Hotel &amp; Resort - ECPv6.14.2//NONSGML v1.0//EN
CALSCALE:GREGORIAN
METHOD:PUBLISH
X-WR-CALNAME:The Kahala Luxury Hotel &amp; Resort
X-ORIGINAL-URL:https://kr.kahalaresort.com
X-WR-CALDESC:Events for The Kahala Luxury Hotel &amp; Resort
REFRESH-INTERVAL;VALUE=DURATION:PT1H
X-Robots-Tag:noindex
X-PUBLISHED-TTL:PT1H
BEGIN:VTIMEZONE
TZID:Pacific/Honolulu
BEGIN:STANDARD
TZOFFSETFROM:-1000
TZOFFSETTO:-1000
TZNAME:HST
DTSTART:20250101T000000
END:STANDARD
END:VTIMEZONE
BEGIN:VEVENT
DTSTART;VALUE=DATE:20250404
DTEND;VALUE=DATE:20250405
DTSTAMP:20260424T180017
CREATED:20230114T011837Z
LAST-MODIFIED:20251104T205552Z
UID:10015277-1743724800-1743811199@kr.kahalaresort.com
SUMMARY:Seafood Buffet
DESCRIPTION:
URL:https://kr.kahalaresort.com/event/seafood-buffet/2025-04-04/
LOCATION:at PLUMERIA BEACH HOUSE
CATEGORIES:다이닝,전체 이벤트
ATTACH;FMTTYPE=image/jpeg:https://kr.kahalaresort.com/wp-content/uploads/1619204503-Seafood-Buffet_480x480_desktop.jpg
END:VEVENT
BEGIN:VEVENT
DTSTART;VALUE=DATE:20250405
DTEND;VALUE=DATE:20250406
DTSTAMP:20260424T180017
CREATED:20230114T011837Z
LAST-MODIFIED:20251104T205552Z
UID:10015278-1743811200-1743897599@kr.kahalaresort.com
SUMMARY:Seafood Buffet
DESCRIPTION:
URL:https://kr.kahalaresort.com/event/seafood-buffet/2025-04-05/
LOCATION:at PLUMERIA BEACH HOUSE
CATEGORIES:다이닝,전체 이벤트
ATTACH;FMTTYPE=image/jpeg:https://kr.kahalaresort.com/wp-content/uploads/1619204503-Seafood-Buffet_480x480_desktop.jpg
END:VEVENT
BEGIN:VEVENT
DTSTART;VALUE=DATE:20250405
DTEND;VALUE=DATE:20250406
DTSTAMP:20260424T180017
CREATED:20230116T055321Z
LAST-MODIFIED:20251104T205858Z
UID:10016897-1743811200-1743897599@kr.kahalaresort.com
SUMMARY:Classic Afternoon Tea
DESCRIPTION:
URL:https://kr.kahalaresort.com/event/classic-afternoon-tea/2025-04-05/
CATEGORIES:다이닝,전체 이벤트
ATTACH;FMTTYPE=image/jpeg:https://kr.kahalaresort.com/wp-content/uploads/1651073317-insta_86_thumbnail.jpg
END:VEVENT
BEGIN:VEVENT
DTSTART;VALUE=DATE:20250411
DTEND;VALUE=DATE:20250412
DTSTAMP:20260424T180017
CREATED:20230114T011837Z
LAST-MODIFIED:20251104T205552Z
UID:10015992-1744329600-1744415999@kr.kahalaresort.com
SUMMARY:Seafood Buffet
DESCRIPTION:
URL:https://kr.kahalaresort.com/event/seafood-buffet/2025-04-11/
LOCATION:at PLUMERIA BEACH HOUSE
CATEGORIES:다이닝,전체 이벤트
ATTACH;FMTTYPE=image/jpeg:https://kr.kahalaresort.com/wp-content/uploads/1619204503-Seafood-Buffet_480x480_desktop.jpg
END:VEVENT
BEGIN:VEVENT
DTSTART;VALUE=DATE:20250412
DTEND;VALUE=DATE:20250413
DTSTAMP:20260424T180017
CREATED:20230114T011837Z
LAST-MODIFIED:20251104T205552Z
UID:10015993-1744416000-1744502399@kr.kahalaresort.com
SUMMARY:Seafood Buffet
DESCRIPTION:
URL:https://kr.kahalaresort.com/event/seafood-buffet/2025-04-12/
LOCATION:at PLUMERIA BEACH HOUSE
CATEGORIES:다이닝,전체 이벤트
ATTACH;FMTTYPE=image/jpeg:https://kr.kahalaresort.com/wp-content/uploads/1619204503-Seafood-Buffet_480x480_desktop.jpg
END:VEVENT
BEGIN:VEVENT
DTSTART;VALUE=DATE:20250412
DTEND;VALUE=DATE:20250413
DTSTAMP:20260424T180017
CREATED:20230116T055321Z
LAST-MODIFIED:20251104T205858Z
UID:10016899-1744416000-1744502399@kr.kahalaresort.com
SUMMARY:Classic Afternoon Tea
DESCRIPTION:
URL:https://kr.kahalaresort.com/event/classic-afternoon-tea/2025-04-12/
CATEGORIES:다이닝,전체 이벤트
ATTACH;FMTTYPE=image/jpeg:https://kr.kahalaresort.com/wp-content/uploads/1651073317-insta_86_thumbnail.jpg
END:VEVENT
BEGIN:VEVENT
DTSTART;VALUE=DATE:20250418
DTEND;VALUE=DATE:20250419
DTSTAMP:20260424T180017
CREATED:20230114T011837Z
LAST-MODIFIED:20251104T205552Z
UID:10015279-1744934400-1745020799@kr.kahalaresort.com
SUMMARY:Seafood Buffet
DESCRIPTION:
URL:https://kr.kahalaresort.com/event/seafood-buffet/2025-04-18/
LOCATION:at PLUMERIA BEACH HOUSE
CATEGORIES:다이닝,전체 이벤트
ATTACH;FMTTYPE=image/jpeg:https://kr.kahalaresort.com/wp-content/uploads/1619204503-Seafood-Buffet_480x480_desktop.jpg
END:VEVENT
BEGIN:VEVENT
DTSTART;VALUE=DATE:20250419
DTEND;VALUE=DATE:20250420
DTSTAMP:20260424T180017
CREATED:20230114T011837Z
LAST-MODIFIED:20251104T205552Z
UID:10015280-1745020800-1745107199@kr.kahalaresort.com
SUMMARY:Seafood Buffet
DESCRIPTION:
URL:https://kr.kahalaresort.com/event/seafood-buffet/2025-04-19/
LOCATION:at PLUMERIA BEACH HOUSE
CATEGORIES:다이닝,전체 이벤트
ATTACH;FMTTYPE=image/jpeg:https://kr.kahalaresort.com/wp-content/uploads/1619204503-Seafood-Buffet_480x480_desktop.jpg
END:VEVENT
BEGIN:VEVENT
DTSTART;VALUE=DATE:20250419
DTEND;VALUE=DATE:20250420
DTSTAMP:20260424T180017
CREATED:20230116T055321Z
LAST-MODIFIED:20251104T205858Z
UID:10016901-1745020800-1745107199@kr.kahalaresort.com
SUMMARY:Classic Afternoon Tea
DESCRIPTION:
URL:https://kr.kahalaresort.com/event/classic-afternoon-tea/2025-04-19/
CATEGORIES:다이닝,전체 이벤트
ATTACH;FMTTYPE=image/jpeg:https://kr.kahalaresort.com/wp-content/uploads/1651073317-insta_86_thumbnail.jpg
END:VEVENT
BEGIN:VEVENT
DTSTART;VALUE=DATE:20250425
DTEND;VALUE=DATE:20250426
DTSTAMP:20260424T180017
CREATED:20230114T011837Z
LAST-MODIFIED:20251104T205552Z
UID:10015994-1745539200-1745625599@kr.kahalaresort.com
SUMMARY:Seafood Buffet
DESCRIPTION:
URL:https://kr.kahalaresort.com/event/seafood-buffet/2025-04-25/
LOCATION:at PLUMERIA BEACH HOUSE
CATEGORIES:다이닝,전체 이벤트
ATTACH;FMTTYPE=image/jpeg:https://kr.kahalaresort.com/wp-content/uploads/1619204503-Seafood-Buffet_480x480_desktop.jpg
END:VEVENT
BEGIN:VEVENT
DTSTART;VALUE=DATE:20250426
DTEND;VALUE=DATE:20250427
DTSTAMP:20260424T180017
CREATED:20230114T011837Z
LAST-MODIFIED:20251104T205552Z
UID:10015995-1745625600-1745711999@kr.kahalaresort.com
SUMMARY:Seafood Buffet
DESCRIPTION:
URL:https://kr.kahalaresort.com/event/seafood-buffet/2025-04-26/
LOCATION:at PLUMERIA BEACH HOUSE
CATEGORIES:다이닝,전체 이벤트
ATTACH;FMTTYPE=image/jpeg:https://kr.kahalaresort.com/wp-content/uploads/1619204503-Seafood-Buffet_480x480_desktop.jpg
END:VEVENT
BEGIN:VEVENT
DTSTART;VALUE=DATE:20250426
DTEND;VALUE=DATE:20250427
DTSTAMP:20260424T180017
CREATED:20230116T055321Z
LAST-MODIFIED:20251104T205858Z
UID:10016903-1745625600-1745711999@kr.kahalaresort.com
SUMMARY:Classic Afternoon Tea
DESCRIPTION:
URL:https://kr.kahalaresort.com/event/classic-afternoon-tea/2025-04-26/
CATEGORIES:다이닝,전체 이벤트
ATTACH;FMTTYPE=image/jpeg:https://kr.kahalaresort.com/wp-content/uploads/1651073317-insta_86_thumbnail.jpg
END:VEVENT
END:VCALENDAR