BEGIN:VCALENDAR
VERSION:2.0
PRODID:-//The Kahala Luxury Hotel &amp; Resort - ECPv6.14.2//NONSGML v1.0//EN
CALSCALE:GREGORIAN
METHOD:PUBLISH
X-WR-CALNAME:The Kahala Luxury Hotel &amp; Resort
X-ORIGINAL-URL:https://kr.kahalaresort.com
X-WR-CALDESC:Events for The Kahala Luxury Hotel &amp; Resort
REFRESH-INTERVAL;VALUE=DURATION:PT1H
X-Robots-Tag:noindex
X-PUBLISHED-TTL:PT1H
BEGIN:VTIMEZONE
TZID:Pacific/Honolulu
BEGIN:STANDARD
TZOFFSETFROM:-1000
TZOFFSETTO:-1000
TZNAME:HST
DTSTART:20250101T000000
END:STANDARD
END:VTIMEZONE
BEGIN:VEVENT
DTSTART;VALUE=DATE:20250222
DTEND;VALUE=DATE:20250223
DTSTAMP:20260420T022858
CREATED:20230113T013846Z
LAST-MODIFIED:20250811T225320Z
UID:10011741-1740182400-1740268799@kr.kahalaresort.com
SUMMARY:CHI Fitness Class: Yoga
DESCRIPTION:
URL:https://kr.kahalaresort.com/event/chi-fitness-class-yoga-2-2-2/2025-02-22/
LOCATION:at CHI Fitness
CATEGORIES:전체 이벤트,특별 이벤트
ATTACH;FMTTYPE=image/jpeg:https://kr.kahalaresort.com/wp-content/uploads/Yoga-3-revised.jpg
END:VEVENT
BEGIN:VEVENT
DTSTART;VALUE=DATE:20250223
DTEND;VALUE=DATE:20250224
DTSTAMP:20260420T022858
CREATED:20230113T013846Z
LAST-MODIFIED:20250811T225320Z
UID:10011742-1740268800-1740355199@kr.kahalaresort.com
SUMMARY:CHI Fitness Class: Yoga
DESCRIPTION:
URL:https://kr.kahalaresort.com/event/chi-fitness-class-yoga-2-2-2/2025-02-23/
LOCATION:at CHI Fitness
CATEGORIES:전체 이벤트,특별 이벤트
ATTACH;FMTTYPE=image/jpeg:https://kr.kahalaresort.com/wp-content/uploads/Yoga-3-revised.jpg
END:VEVENT
BEGIN:VEVENT
DTSTART;VALUE=DATE:20250223
DTEND;VALUE=DATE:20250224
DTSTAMP:20260420T022858
CREATED:20230115T220000Z
LAST-MODIFIED:20251021T224815Z
UID:10020612-1740268800-1740355199@kr.kahalaresort.com
SUMMARY:Lei Making
DESCRIPTION:
URL:https://kr.kahalaresort.com/event/lei-making-2/2025-02-23/
LOCATION:at THE VERANDA
CATEGORIES:KISCA,전체 이벤트,특별 이벤트
ATTACH;FMTTYPE=image/jpeg:https://kr.kahalaresort.com/wp-content/uploads/1639069510-Lei_Making_desktop-1.jpeg
END:VEVENT
BEGIN:VEVENT
DTSTART;VALUE=DATE:20250224
DTEND;VALUE=DATE:20250225
DTSTAMP:20260420T022858
CREATED:20230111T173130Z
LAST-MODIFIED:20251004T041023Z
UID:10013167-1740355200-1740441599@kr.kahalaresort.com
SUMMARY:Ohe Kapala Stamping by Na Mala Kahiko
DESCRIPTION:
URL:https://kr.kahalaresort.com/event/ohe-kapala-stamping-by-na-mala-kahiko/2025-02-24/
LOCATION:at THE VERANDA
CATEGORIES:KISCA,전체 이벤트,특별 이벤트
ATTACH;FMTTYPE=image/png:https://kr.kahalaresort.com/wp-content/uploads/1639080397-image014_desktop-2.png
END:VEVENT
BEGIN:VEVENT
DTSTART;VALUE=DATE:20250224
DTEND;VALUE=DATE:20250225
DTSTAMP:20260420T022858
CREATED:20230113T013846Z
LAST-MODIFIED:20250811T225320Z
UID:10011743-1740355200-1740441599@kr.kahalaresort.com
SUMMARY:CHI Fitness Class: Yoga
DESCRIPTION:
URL:https://kr.kahalaresort.com/event/chi-fitness-class-yoga-2-2-2/2025-02-24/
LOCATION:at CHI Fitness
CATEGORIES:전체 이벤트,특별 이벤트
ATTACH;FMTTYPE=image/jpeg:https://kr.kahalaresort.com/wp-content/uploads/Yoga-3-revised.jpg
END:VEVENT
BEGIN:VEVENT
DTSTART;VALUE=DATE:20250225
DTEND;VALUE=DATE:20250226
DTSTAMP:20260420T022858
CREATED:20230113T013846Z
LAST-MODIFIED:20250811T225320Z
UID:10011744-1740441600-1740527999@kr.kahalaresort.com
SUMMARY:CHI Fitness Class: Yoga
DESCRIPTION:
URL:https://kr.kahalaresort.com/event/chi-fitness-class-yoga-2-2-2/2025-02-25/
LOCATION:at CHI Fitness
CATEGORIES:전체 이벤트,특별 이벤트
ATTACH;FMTTYPE=image/jpeg:https://kr.kahalaresort.com/wp-content/uploads/Yoga-3-revised.jpg
END:VEVENT
BEGIN:VEVENT
DTSTART;VALUE=DATE:20250225
DTEND;VALUE=DATE:20250226
DTSTAMP:20260420T022858
CREATED:20230525T201110Z
LAST-MODIFIED:20260303T193935Z
UID:10013428-1740441600-1740527999@kr.kahalaresort.com
SUMMARY:Lauhala Weaving
DESCRIPTION:
URL:https://kr.kahalaresort.com/event/lauhala-weaving-2/2025-02-25/
LOCATION:at THE VERANDA
CATEGORIES:KISCA,전체 이벤트,특별 이벤트
ATTACH;FMTTYPE=image/jpeg:https://kr.kahalaresort.com/wp-content/uploads/1639071856-Weaving_desktop-1.jpg
END:VEVENT
BEGIN:VEVENT
DTSTART;VALUE=DATE:20250226
DTEND;VALUE=DATE:20250227
DTSTAMP:20260420T022858
CREATED:20230111T175739Z
LAST-MODIFIED:20251114T032926Z
UID:10014475-1740528000-1740614399@kr.kahalaresort.com
SUMMARY:Keiki Art
DESCRIPTION:
URL:https://kr.kahalaresort.com/event/keiki-art/2025-02-26/
CATEGORIES:KISCA,전체 이벤트,특별 이벤트
ATTACH;FMTTYPE=image/jpeg:https://kr.kahalaresort.com/wp-content/uploads/1632757965-shutterstock_574858306_desktop.jpg
END:VEVENT
BEGIN:VEVENT
DTSTART;VALUE=DATE:20250226
DTEND;VALUE=DATE:20250227
DTSTAMP:20260420T022858
CREATED:20230113T013846Z
LAST-MODIFIED:20250811T225320Z
UID:10011745-1740528000-1740614399@kr.kahalaresort.com
SUMMARY:CHI Fitness Class: Yoga
DESCRIPTION:
URL:https://kr.kahalaresort.com/event/chi-fitness-class-yoga-2-2-2/2025-02-26/
LOCATION:at CHI Fitness
CATEGORIES:전체 이벤트,특별 이벤트
ATTACH;FMTTYPE=image/jpeg:https://kr.kahalaresort.com/wp-content/uploads/Yoga-3-revised.jpg
END:VEVENT
BEGIN:VEVENT
DTSTART;VALUE=DATE:20250227
DTEND;VALUE=DATE:20250228
DTSTAMP:20260420T022858
CREATED:20230111T180331Z
LAST-MODIFIED:20250811T225331Z
UID:10014213-1740614400-1740700799@kr.kahalaresort.com
SUMMARY:Haku Kupe’e Bracelet Making
DESCRIPTION:
URL:https://kr.kahalaresort.com/event/haku-kupee-bracelet-making/2025-02-27/
LOCATION:at THE VERANDA
CATEGORIES:KISCA,전체 이벤트,특별 이벤트
ATTACH;FMTTYPE=image/jpeg:https://kr.kahalaresort.com/wp-content/uploads/1657547631-Haku-Kupe-480x480_desktop-1.jpg
END:VEVENT
BEGIN:VEVENT
DTSTART;VALUE=DATE:20250227
DTEND;VALUE=DATE:20250228
DTSTAMP:20260420T022858
CREATED:20230113T013846Z
LAST-MODIFIED:20250811T225320Z
UID:10011746-1740614400-1740700799@kr.kahalaresort.com
SUMMARY:CHI Fitness Class: Yoga
DESCRIPTION:
URL:https://kr.kahalaresort.com/event/chi-fitness-class-yoga-2-2-2/2025-02-27/
LOCATION:at CHI Fitness
CATEGORIES:전체 이벤트,특별 이벤트
ATTACH;FMTTYPE=image/jpeg:https://kr.kahalaresort.com/wp-content/uploads/Yoga-3-revised.jpg
END:VEVENT
BEGIN:VEVENT
DTSTART;VALUE=DATE:20250228
DTEND;VALUE=DATE:20250301
DTSTAMP:20260420T022858
CREATED:20230113T013846Z
LAST-MODIFIED:20250811T225320Z
UID:10011747-1740700800-1740787199@kr.kahalaresort.com
SUMMARY:CHI Fitness Class: Yoga
DESCRIPTION:
URL:https://kr.kahalaresort.com/event/chi-fitness-class-yoga-2-2-2/2025-02-28/
LOCATION:at CHI Fitness
CATEGORIES:전체 이벤트,특별 이벤트
ATTACH;FMTTYPE=image/jpeg:https://kr.kahalaresort.com/wp-content/uploads/Yoga-3-revised.jpg
END:VEVENT
BEGIN:VEVENT
DTSTART;VALUE=DATE:20250228
DTEND;VALUE=DATE:20250301
DTSTAMP:20260420T022858
CREATED:20230115T220000Z
LAST-MODIFIED:20251021T224815Z
UID:10020614-1740700800-1740787199@kr.kahalaresort.com
SUMMARY:Lei Making
DESCRIPTION:
URL:https://kr.kahalaresort.com/event/lei-making-2/2025-02-28/
LOCATION:at THE VERANDA
CATEGORIES:KISCA,전체 이벤트,특별 이벤트
ATTACH;FMTTYPE=image/jpeg:https://kr.kahalaresort.com/wp-content/uploads/1639069510-Lei_Making_desktop-1.jpeg
END:VEVENT
BEGIN:VEVENT
DTSTART;VALUE=DATE:20250301
DTEND;VALUE=DATE:20250302
DTSTAMP:20260420T022858
CREATED:20230113T013846Z
LAST-MODIFIED:20250811T225320Z
UID:10011748-1740787200-1740873599@kr.kahalaresort.com
SUMMARY:CHI Fitness Class: Yoga
DESCRIPTION:
URL:https://kr.kahalaresort.com/event/chi-fitness-class-yoga-2-2-2/2025-03-01/
LOCATION:at CHI Fitness
CATEGORIES:전체 이벤트,특별 이벤트
ATTACH;FMTTYPE=image/jpeg:https://kr.kahalaresort.com/wp-content/uploads/Yoga-3-revised.jpg
END:VEVENT
BEGIN:VEVENT
DTSTART;VALUE=DATE:20250302
DTEND;VALUE=DATE:20250303
DTSTAMP:20260420T022858
CREATED:20230113T013846Z
LAST-MODIFIED:20250811T225320Z
UID:10011749-1740873600-1740959999@kr.kahalaresort.com
SUMMARY:CHI Fitness Class: Yoga
DESCRIPTION:
URL:https://kr.kahalaresort.com/event/chi-fitness-class-yoga-2-2-2/2025-03-02/
LOCATION:at CHI Fitness
CATEGORIES:전체 이벤트,특별 이벤트
ATTACH;FMTTYPE=image/jpeg:https://kr.kahalaresort.com/wp-content/uploads/Yoga-3-revised.jpg
END:VEVENT
BEGIN:VEVENT
DTSTART;VALUE=DATE:20250302
DTEND;VALUE=DATE:20250303
DTSTAMP:20260420T022858
CREATED:20230115T220000Z
LAST-MODIFIED:20251021T224815Z
UID:10020615-1740873600-1740959999@kr.kahalaresort.com
SUMMARY:Lei Making
DESCRIPTION:
URL:https://kr.kahalaresort.com/event/lei-making-2/2025-03-02/
LOCATION:at THE VERANDA
CATEGORIES:KISCA,전체 이벤트,특별 이벤트
ATTACH;FMTTYPE=image/jpeg:https://kr.kahalaresort.com/wp-content/uploads/1639069510-Lei_Making_desktop-1.jpeg
END:VEVENT
BEGIN:VEVENT
DTSTART;VALUE=DATE:20250303
DTEND;VALUE=DATE:20250304
DTSTAMP:20260420T022858
CREATED:20230111T173130Z
LAST-MODIFIED:20251004T041023Z
UID:10013168-1740960000-1741046399@kr.kahalaresort.com
SUMMARY:Ohe Kapala Stamping by Na Mala Kahiko
DESCRIPTION:
URL:https://kr.kahalaresort.com/event/ohe-kapala-stamping-by-na-mala-kahiko/2025-03-03/
LOCATION:at THE VERANDA
CATEGORIES:KISCA,전체 이벤트,특별 이벤트
ATTACH;FMTTYPE=image/png:https://kr.kahalaresort.com/wp-content/uploads/1639080397-image014_desktop-2.png
END:VEVENT
BEGIN:VEVENT
DTSTART;VALUE=DATE:20250303
DTEND;VALUE=DATE:20250304
DTSTAMP:20260420T022858
CREATED:20230113T013846Z
LAST-MODIFIED:20250811T225320Z
UID:10011750-1740960000-1741046399@kr.kahalaresort.com
SUMMARY:CHI Fitness Class: Yoga
DESCRIPTION:
URL:https://kr.kahalaresort.com/event/chi-fitness-class-yoga-2-2-2/2025-03-03/
LOCATION:at CHI Fitness
CATEGORIES:전체 이벤트,특별 이벤트
ATTACH;FMTTYPE=image/jpeg:https://kr.kahalaresort.com/wp-content/uploads/Yoga-3-revised.jpg
END:VEVENT
BEGIN:VEVENT
DTSTART;VALUE=DATE:20250304
DTEND;VALUE=DATE:20250305
DTSTAMP:20260420T022858
CREATED:20230113T013846Z
LAST-MODIFIED:20250811T225320Z
UID:10011751-1741046400-1741132799@kr.kahalaresort.com
SUMMARY:CHI Fitness Class: Yoga
DESCRIPTION:
URL:https://kr.kahalaresort.com/event/chi-fitness-class-yoga-2-2-2/2025-03-04/
LOCATION:at CHI Fitness
CATEGORIES:전체 이벤트,특별 이벤트
ATTACH;FMTTYPE=image/jpeg:https://kr.kahalaresort.com/wp-content/uploads/Yoga-3-revised.jpg
END:VEVENT
BEGIN:VEVENT
DTSTART;VALUE=DATE:20250304
DTEND;VALUE=DATE:20250305
DTSTAMP:20260420T022858
CREATED:20230525T201110Z
LAST-MODIFIED:20260303T193935Z
UID:10013429-1741046400-1741132799@kr.kahalaresort.com
SUMMARY:Lauhala Weaving
DESCRIPTION:
URL:https://kr.kahalaresort.com/event/lauhala-weaving-2/2025-03-04/
LOCATION:at THE VERANDA
CATEGORIES:KISCA,전체 이벤트,특별 이벤트
ATTACH;FMTTYPE=image/jpeg:https://kr.kahalaresort.com/wp-content/uploads/1639071856-Weaving_desktop-1.jpg
END:VEVENT
BEGIN:VEVENT
DTSTART;VALUE=DATE:20250305
DTEND;VALUE=DATE:20250306
DTSTAMP:20260420T022858
CREATED:20230111T175739Z
LAST-MODIFIED:20251114T032926Z
UID:10014476-1741132800-1741219199@kr.kahalaresort.com
SUMMARY:Keiki Art
DESCRIPTION:
URL:https://kr.kahalaresort.com/event/keiki-art/2025-03-05/
CATEGORIES:KISCA,전체 이벤트,특별 이벤트
ATTACH;FMTTYPE=image/jpeg:https://kr.kahalaresort.com/wp-content/uploads/1632757965-shutterstock_574858306_desktop.jpg
END:VEVENT
BEGIN:VEVENT
DTSTART;VALUE=DATE:20250305
DTEND;VALUE=DATE:20250306
DTSTAMP:20260420T022858
CREATED:20230113T013846Z
LAST-MODIFIED:20250811T225320Z
UID:10011752-1741132800-1741219199@kr.kahalaresort.com
SUMMARY:CHI Fitness Class: Yoga
DESCRIPTION:
URL:https://kr.kahalaresort.com/event/chi-fitness-class-yoga-2-2-2/2025-03-05/
LOCATION:at CHI Fitness
CATEGORIES:전체 이벤트,특별 이벤트
ATTACH;FMTTYPE=image/jpeg:https://kr.kahalaresort.com/wp-content/uploads/Yoga-3-revised.jpg
END:VEVENT
BEGIN:VEVENT
DTSTART;VALUE=DATE:20250306
DTEND;VALUE=DATE:20250307
DTSTAMP:20260420T022858
CREATED:20230111T180331Z
LAST-MODIFIED:20250811T225331Z
UID:10014214-1741219200-1741305599@kr.kahalaresort.com
SUMMARY:Haku Kupe’e Bracelet Making
DESCRIPTION:
URL:https://kr.kahalaresort.com/event/haku-kupee-bracelet-making/2025-03-06/
LOCATION:at THE VERANDA
CATEGORIES:KISCA,전체 이벤트,특별 이벤트
ATTACH;FMTTYPE=image/jpeg:https://kr.kahalaresort.com/wp-content/uploads/1657547631-Haku-Kupe-480x480_desktop-1.jpg
END:VEVENT
BEGIN:VEVENT
DTSTART;VALUE=DATE:20250306
DTEND;VALUE=DATE:20250307
DTSTAMP:20260420T022858
CREATED:20230113T013846Z
LAST-MODIFIED:20250811T225320Z
UID:10011753-1741219200-1741305599@kr.kahalaresort.com
SUMMARY:CHI Fitness Class: Yoga
DESCRIPTION:
URL:https://kr.kahalaresort.com/event/chi-fitness-class-yoga-2-2-2/2025-03-06/
LOCATION:at CHI Fitness
CATEGORIES:전체 이벤트,특별 이벤트
ATTACH;FMTTYPE=image/jpeg:https://kr.kahalaresort.com/wp-content/uploads/Yoga-3-revised.jpg
END:VEVENT
BEGIN:VEVENT
DTSTART;VALUE=DATE:20250307
DTEND;VALUE=DATE:20250308
DTSTAMP:20260420T022858
CREATED:20230113T013846Z
LAST-MODIFIED:20250811T225320Z
UID:10011754-1741305600-1741391999@kr.kahalaresort.com
SUMMARY:CHI Fitness Class: Yoga
DESCRIPTION:
URL:https://kr.kahalaresort.com/event/chi-fitness-class-yoga-2-2-2/2025-03-07/
LOCATION:at CHI Fitness
CATEGORIES:전체 이벤트,특별 이벤트
ATTACH;FMTTYPE=image/jpeg:https://kr.kahalaresort.com/wp-content/uploads/Yoga-3-revised.jpg
END:VEVENT
BEGIN:VEVENT
DTSTART;VALUE=DATE:20250307
DTEND;VALUE=DATE:20250308
DTSTAMP:20260420T022859
CREATED:20230115T220000Z
LAST-MODIFIED:20251021T224815Z
UID:10020617-1741305600-1741391999@kr.kahalaresort.com
SUMMARY:Lei Making
DESCRIPTION:
URL:https://kr.kahalaresort.com/event/lei-making-2/2025-03-07/
LOCATION:at THE VERANDA
CATEGORIES:KISCA,전체 이벤트,특별 이벤트
ATTACH;FMTTYPE=image/jpeg:https://kr.kahalaresort.com/wp-content/uploads/1639069510-Lei_Making_desktop-1.jpeg
END:VEVENT
BEGIN:VEVENT
DTSTART;VALUE=DATE:20250308
DTEND;VALUE=DATE:20250309
DTSTAMP:20260420T022859
CREATED:20230113T013846Z
LAST-MODIFIED:20250811T225320Z
UID:10011755-1741392000-1741478399@kr.kahalaresort.com
SUMMARY:CHI Fitness Class: Yoga
DESCRIPTION:
URL:https://kr.kahalaresort.com/event/chi-fitness-class-yoga-2-2-2/2025-03-08/
LOCATION:at CHI Fitness
CATEGORIES:전체 이벤트,특별 이벤트
ATTACH;FMTTYPE=image/jpeg:https://kr.kahalaresort.com/wp-content/uploads/Yoga-3-revised.jpg
END:VEVENT
BEGIN:VEVENT
DTSTART;VALUE=DATE:20250309
DTEND;VALUE=DATE:20250310
DTSTAMP:20260420T022859
CREATED:20230113T013846Z
LAST-MODIFIED:20250811T225320Z
UID:10011756-1741478400-1741564799@kr.kahalaresort.com
SUMMARY:CHI Fitness Class: Yoga
DESCRIPTION:
URL:https://kr.kahalaresort.com/event/chi-fitness-class-yoga-2-2-2/2025-03-09/
LOCATION:at CHI Fitness
CATEGORIES:전체 이벤트,특별 이벤트
ATTACH;FMTTYPE=image/jpeg:https://kr.kahalaresort.com/wp-content/uploads/Yoga-3-revised.jpg
END:VEVENT
BEGIN:VEVENT
DTSTART;VALUE=DATE:20250309
DTEND;VALUE=DATE:20250310
DTSTAMP:20260420T022859
CREATED:20230115T220000Z
LAST-MODIFIED:20251021T224815Z
UID:10020618-1741478400-1741564799@kr.kahalaresort.com
SUMMARY:Lei Making
DESCRIPTION:
URL:https://kr.kahalaresort.com/event/lei-making-2/2025-03-09/
LOCATION:at THE VERANDA
CATEGORIES:KISCA,전체 이벤트,특별 이벤트
ATTACH;FMTTYPE=image/jpeg:https://kr.kahalaresort.com/wp-content/uploads/1639069510-Lei_Making_desktop-1.jpeg
END:VEVENT
BEGIN:VEVENT
DTSTART;VALUE=DATE:20250310
DTEND;VALUE=DATE:20250311
DTSTAMP:20260420T022859
CREATED:20230111T173130Z
LAST-MODIFIED:20251004T041023Z
UID:10013169-1741564800-1741651199@kr.kahalaresort.com
SUMMARY:Ohe Kapala Stamping by Na Mala Kahiko
DESCRIPTION:
URL:https://kr.kahalaresort.com/event/ohe-kapala-stamping-by-na-mala-kahiko/2025-03-10/
LOCATION:at THE VERANDA
CATEGORIES:KISCA,전체 이벤트,특별 이벤트
ATTACH;FMTTYPE=image/png:https://kr.kahalaresort.com/wp-content/uploads/1639080397-image014_desktop-2.png
END:VEVENT
END:VCALENDAR