BEGIN:VCALENDAR
VERSION:2.0
PRODID:-//The Kahala Luxury Hotel &amp; Resort - ECPv6.14.2//NONSGML v1.0//EN
CALSCALE:GREGORIAN
METHOD:PUBLISH
X-WR-CALNAME:The Kahala Luxury Hotel &amp; Resort
X-ORIGINAL-URL:https://kr.kahalaresort.com
X-WR-CALDESC:Events for The Kahala Luxury Hotel &amp; Resort
REFRESH-INTERVAL;VALUE=DURATION:PT1H
X-Robots-Tag:noindex
X-PUBLISHED-TTL:PT1H
BEGIN:VTIMEZONE
TZID:Pacific/Honolulu
BEGIN:STANDARD
TZOFFSETFROM:-1000
TZOFFSETTO:-1000
TZNAME:HST
DTSTART:20260101T000000
END:STANDARD
END:VTIMEZONE
BEGIN:VEVENT
DTSTART;VALUE=DATE:20260325
DTEND;VALUE=DATE:20260326
DTSTAMP:20260422T094117
CREATED:20251004T042115Z
LAST-MODIFIED:20260122T223837Z
UID:10021106-1774396800-1774483199@kr.kahalaresort.com
SUMMARY:Ocean Education Activity
DESCRIPTION:
URL:https://kr.kahalaresort.com/event/ocean-education-activity/2026-03-25/
LOCATION:at POOLSIDE HALE
CATEGORIES:KISCA,전체 이벤트,특별 이벤트
ATTACH;FMTTYPE=image/jpeg:https://kr.kahalaresort.com/wp-content/uploads/1632756412-shutterstock_410084188_thumbnail.jpg
END:VEVENT
BEGIN:VEVENT
DTSTART;VALUE=DATE:20260326
DTEND;VALUE=DATE:20260327
DTSTAMP:20260422T094117
CREATED:20260303T195534Z
LAST-MODIFIED:20260315T143513Z
UID:10024698-1774483200-1774569599@kr.kahalaresort.com
SUMMARY:Haku Kupe’e Bracelet Making
DESCRIPTION:
URL:https://kr.kahalaresort.com/event/haku-kupee-bracelet-making-2/2026-03-26/
LOCATION:at THE VERANDA
CATEGORIES:KISCA,전체 이벤트,특별 이벤트
ATTACH;FMTTYPE=image/jpeg:https://kr.kahalaresort.com/wp-content/uploads/1657547631-Haku-Kupe-480x480_desktop-1.jpg
END:VEVENT
BEGIN:VEVENT
DTSTART;VALUE=DATE:20260327
DTEND;VALUE=DATE:20260328
DTSTAMP:20260422T094117
CREATED:20251004T042115Z
LAST-MODIFIED:20260122T223837Z
UID:10021107-1774569600-1774655999@kr.kahalaresort.com
SUMMARY:Ocean Education Activity
DESCRIPTION:
URL:https://kr.kahalaresort.com/event/ocean-education-activity/2026-03-27/
LOCATION:at POOLSIDE HALE
CATEGORIES:KISCA,전체 이벤트,특별 이벤트
ATTACH;FMTTYPE=image/jpeg:https://kr.kahalaresort.com/wp-content/uploads/1632756412-shutterstock_410084188_thumbnail.jpg
END:VEVENT
BEGIN:VEVENT
DTSTART;VALUE=DATE:20260329
DTEND;VALUE=DATE:20260330
DTSTAMP:20260422T094117
CREATED:20251004T042615Z
LAST-MODIFIED:20260122T223815Z
UID:10021840-1774742400-1774828799@kr.kahalaresort.com
SUMMARY:Lei laʻi
DESCRIPTION:
URL:https://kr.kahalaresort.com/event/lei-la%ca%bbi/2026-03-29/
LOCATION:at THE VERANDA
CATEGORIES:KISCA,전체 이벤트,특별 이벤트
ATTACH;FMTTYPE=image/jpeg:https://kr.kahalaresort.com/wp-content/uploads/IMG_7951.jpg
END:VEVENT
BEGIN:VEVENT
DTSTART;VALUE=DATE:20260330
DTEND;VALUE=DATE:20260331
DTSTAMP:20260422T094117
CREATED:20251004T041843Z
LAST-MODIFIED:20260122T223713Z
UID:10020796-1774828800-1774915199@kr.kahalaresort.com
SUMMARY:Talk With Dolphin Quest
DESCRIPTION:
URL:https://kr.kahalaresort.com/event/talk-with-dolphin-quest/2026-03-30/
LOCATION:at Dolphin Quest Lagoon
CATEGORIES:KISCA,전체 이벤트,특별 이벤트
ATTACH;FMTTYPE=image/jpeg:https://kr.kahalaresort.com/wp-content/uploads/1634823519-dolphin-480x480-1.jpg
END:VEVENT
BEGIN:VEVENT
DTSTART;VALUE=DATE:20260331
DTEND;VALUE=DATE:20260401
DTSTAMP:20260422T094117
CREATED:20230525T201110Z
LAST-MODIFIED:20260303T193935Z
UID:10024691-1774915200-1775001599@kr.kahalaresort.com
SUMMARY:Lauhala Weaving
DESCRIPTION:
URL:https://kr.kahalaresort.com/event/lauhala-weaving-2/2026-03-31/
LOCATION:at THE VERANDA
CATEGORIES:KISCA,전체 이벤트,특별 이벤트
ATTACH;FMTTYPE=image/jpeg:https://kr.kahalaresort.com/wp-content/uploads/1639071856-Weaving_desktop-1.jpg
END:VEVENT
BEGIN:VEVENT
DTSTART;VALUE=DATE:20260331
DTEND;VALUE=DATE:20260401
DTSTAMP:20260422T094117
CREATED:20251004T042115Z
LAST-MODIFIED:20260122T223837Z
UID:10021108-1774915200-1775001599@kr.kahalaresort.com
SUMMARY:Ocean Education Activity
DESCRIPTION:
URL:https://kr.kahalaresort.com/event/ocean-education-activity/2026-03-31/
LOCATION:at POOLSIDE HALE
CATEGORIES:KISCA,전체 이벤트,특별 이벤트
ATTACH;FMTTYPE=image/jpeg:https://kr.kahalaresort.com/wp-content/uploads/1632756412-shutterstock_410084188_thumbnail.jpg
END:VEVENT
BEGIN:VEVENT
DTSTART;VALUE=DATE:20260401
DTEND;VALUE=DATE:20260402
DTSTAMP:20260422T094117
CREATED:20251004T042115Z
LAST-MODIFIED:20260122T223837Z
UID:10021109-1775001600-1775087999@kr.kahalaresort.com
SUMMARY:Ocean Education Activity
DESCRIPTION:
URL:https://kr.kahalaresort.com/event/ocean-education-activity/2026-04-01/
LOCATION:at POOLSIDE HALE
CATEGORIES:KISCA,전체 이벤트,특별 이벤트
ATTACH;FMTTYPE=image/jpeg:https://kr.kahalaresort.com/wp-content/uploads/1632756412-shutterstock_410084188_thumbnail.jpg
END:VEVENT
BEGIN:VEVENT
DTSTART;VALUE=DATE:20260402
DTEND;VALUE=DATE:20260403
DTSTAMP:20260422T094117
CREATED:20260303T195534Z
LAST-MODIFIED:20260315T143513Z
UID:10024699-1775088000-1775174399@kr.kahalaresort.com
SUMMARY:Haku Kupe’e Bracelet Making
DESCRIPTION:
URL:https://kr.kahalaresort.com/event/haku-kupee-bracelet-making-2/2026-04-02/
LOCATION:at THE VERANDA
CATEGORIES:KISCA,전체 이벤트,특별 이벤트
ATTACH;FMTTYPE=image/jpeg:https://kr.kahalaresort.com/wp-content/uploads/1657547631-Haku-Kupe-480x480_desktop-1.jpg
END:VEVENT
BEGIN:VEVENT
DTSTART;VALUE=DATE:20260403
DTEND;VALUE=DATE:20260404
DTSTAMP:20260422T094117
CREATED:20251004T042115Z
LAST-MODIFIED:20260122T223837Z
UID:10021110-1775174400-1775260799@kr.kahalaresort.com
SUMMARY:Ocean Education Activity
DESCRIPTION:
URL:https://kr.kahalaresort.com/event/ocean-education-activity/2026-04-03/
LOCATION:at POOLSIDE HALE
CATEGORIES:KISCA,전체 이벤트,특별 이벤트
ATTACH;FMTTYPE=image/jpeg:https://kr.kahalaresort.com/wp-content/uploads/1632756412-shutterstock_410084188_thumbnail.jpg
END:VEVENT
BEGIN:VEVENT
DTSTART;VALUE=DATE:20260405
DTEND;VALUE=DATE:20260406
DTSTAMP:20260422T094117
CREATED:20251004T042615Z
LAST-MODIFIED:20260122T223815Z
UID:10021841-1775347200-1775433599@kr.kahalaresort.com
SUMMARY:Lei laʻi
DESCRIPTION:
URL:https://kr.kahalaresort.com/event/lei-la%ca%bbi/2026-04-05/
LOCATION:at THE VERANDA
CATEGORIES:KISCA,전체 이벤트,특별 이벤트
ATTACH;FMTTYPE=image/jpeg:https://kr.kahalaresort.com/wp-content/uploads/IMG_7951.jpg
END:VEVENT
BEGIN:VEVENT
DTSTART;VALUE=DATE:20260406
DTEND;VALUE=DATE:20260407
DTSTAMP:20260422T094117
CREATED:20251004T041843Z
LAST-MODIFIED:20260122T223713Z
UID:10020797-1775433600-1775519999@kr.kahalaresort.com
SUMMARY:Talk With Dolphin Quest
DESCRIPTION:
URL:https://kr.kahalaresort.com/event/talk-with-dolphin-quest/2026-04-06/
LOCATION:at Dolphin Quest Lagoon
CATEGORIES:KISCA,전체 이벤트,특별 이벤트
ATTACH;FMTTYPE=image/jpeg:https://kr.kahalaresort.com/wp-content/uploads/1634823519-dolphin-480x480-1.jpg
END:VEVENT
BEGIN:VEVENT
DTSTART;VALUE=DATE:20260407
DTEND;VALUE=DATE:20260408
DTSTAMP:20260422T094117
CREATED:20230525T201110Z
LAST-MODIFIED:20260303T193935Z
UID:10024692-1775520000-1775606399@kr.kahalaresort.com
SUMMARY:Lauhala Weaving
DESCRIPTION:
URL:https://kr.kahalaresort.com/event/lauhala-weaving-2/2026-04-07/
LOCATION:at THE VERANDA
CATEGORIES:KISCA,전체 이벤트,특별 이벤트
ATTACH;FMTTYPE=image/jpeg:https://kr.kahalaresort.com/wp-content/uploads/1639071856-Weaving_desktop-1.jpg
END:VEVENT
BEGIN:VEVENT
DTSTART;VALUE=DATE:20260407
DTEND;VALUE=DATE:20260408
DTSTAMP:20260422T094117
CREATED:20251004T042115Z
LAST-MODIFIED:20260122T223837Z
UID:10021111-1775520000-1775606399@kr.kahalaresort.com
SUMMARY:Ocean Education Activity
DESCRIPTION:
URL:https://kr.kahalaresort.com/event/ocean-education-activity/2026-04-07/
LOCATION:at POOLSIDE HALE
CATEGORIES:KISCA,전체 이벤트,특별 이벤트
ATTACH;FMTTYPE=image/jpeg:https://kr.kahalaresort.com/wp-content/uploads/1632756412-shutterstock_410084188_thumbnail.jpg
END:VEVENT
BEGIN:VEVENT
DTSTART;VALUE=DATE:20260408
DTEND;VALUE=DATE:20260409
DTSTAMP:20260422T094117
CREATED:20251004T042115Z
LAST-MODIFIED:20260122T223837Z
UID:10021112-1775606400-1775692799@kr.kahalaresort.com
SUMMARY:Ocean Education Activity
DESCRIPTION:
URL:https://kr.kahalaresort.com/event/ocean-education-activity/2026-04-08/
LOCATION:at POOLSIDE HALE
CATEGORIES:KISCA,전체 이벤트,특별 이벤트
ATTACH;FMTTYPE=image/jpeg:https://kr.kahalaresort.com/wp-content/uploads/1632756412-shutterstock_410084188_thumbnail.jpg
END:VEVENT
BEGIN:VEVENT
DTSTART;VALUE=DATE:20260409
DTEND;VALUE=DATE:20260410
DTSTAMP:20260422T094117
CREATED:20260303T195534Z
LAST-MODIFIED:20260315T143513Z
UID:10024700-1775692800-1775779199@kr.kahalaresort.com
SUMMARY:Haku Kupe’e Bracelet Making
DESCRIPTION:
URL:https://kr.kahalaresort.com/event/haku-kupee-bracelet-making-2/2026-04-09/
LOCATION:at THE VERANDA
CATEGORIES:KISCA,전체 이벤트,특별 이벤트
ATTACH;FMTTYPE=image/jpeg:https://kr.kahalaresort.com/wp-content/uploads/1657547631-Haku-Kupe-480x480_desktop-1.jpg
END:VEVENT
BEGIN:VEVENT
DTSTART;VALUE=DATE:20260410
DTEND;VALUE=DATE:20260411
DTSTAMP:20260422T094117
CREATED:20251004T042115Z
LAST-MODIFIED:20260122T223837Z
UID:10021113-1775779200-1775865599@kr.kahalaresort.com
SUMMARY:Ocean Education Activity
DESCRIPTION:
URL:https://kr.kahalaresort.com/event/ocean-education-activity/2026-04-10/
LOCATION:at POOLSIDE HALE
CATEGORIES:KISCA,전체 이벤트,특별 이벤트
ATTACH;FMTTYPE=image/jpeg:https://kr.kahalaresort.com/wp-content/uploads/1632756412-shutterstock_410084188_thumbnail.jpg
END:VEVENT
BEGIN:VEVENT
DTSTART;VALUE=DATE:20260412
DTEND;VALUE=DATE:20260413
DTSTAMP:20260422T094117
CREATED:20251004T042615Z
LAST-MODIFIED:20260122T223815Z
UID:10021842-1775952000-1776038399@kr.kahalaresort.com
SUMMARY:Lei laʻi
DESCRIPTION:
URL:https://kr.kahalaresort.com/event/lei-la%ca%bbi/2026-04-12/
LOCATION:at THE VERANDA
CATEGORIES:KISCA,전체 이벤트,특별 이벤트
ATTACH;FMTTYPE=image/jpeg:https://kr.kahalaresort.com/wp-content/uploads/IMG_7951.jpg
END:VEVENT
BEGIN:VEVENT
DTSTART;VALUE=DATE:20260413
DTEND;VALUE=DATE:20260414
DTSTAMP:20260422T094117
CREATED:20251004T041843Z
LAST-MODIFIED:20260122T223713Z
UID:10020798-1776038400-1776124799@kr.kahalaresort.com
SUMMARY:Talk With Dolphin Quest
DESCRIPTION:
URL:https://kr.kahalaresort.com/event/talk-with-dolphin-quest/2026-04-13/
LOCATION:at Dolphin Quest Lagoon
CATEGORIES:KISCA,전체 이벤트,특별 이벤트
ATTACH;FMTTYPE=image/jpeg:https://kr.kahalaresort.com/wp-content/uploads/1634823519-dolphin-480x480-1.jpg
END:VEVENT
BEGIN:VEVENT
DTSTART;VALUE=DATE:20260414
DTEND;VALUE=DATE:20260415
DTSTAMP:20260422T094117
CREATED:20230525T201110Z
LAST-MODIFIED:20260303T193935Z
UID:10024693-1776124800-1776211199@kr.kahalaresort.com
SUMMARY:Lauhala Weaving
DESCRIPTION:
URL:https://kr.kahalaresort.com/event/lauhala-weaving-2/2026-04-14/
LOCATION:at THE VERANDA
CATEGORIES:KISCA,전체 이벤트,특별 이벤트
ATTACH;FMTTYPE=image/jpeg:https://kr.kahalaresort.com/wp-content/uploads/1639071856-Weaving_desktop-1.jpg
END:VEVENT
BEGIN:VEVENT
DTSTART;VALUE=DATE:20260414
DTEND;VALUE=DATE:20260415
DTSTAMP:20260422T094117
CREATED:20251004T042115Z
LAST-MODIFIED:20260122T223837Z
UID:10021114-1776124800-1776211199@kr.kahalaresort.com
SUMMARY:Ocean Education Activity
DESCRIPTION:
URL:https://kr.kahalaresort.com/event/ocean-education-activity/2026-04-14/
LOCATION:at POOLSIDE HALE
CATEGORIES:KISCA,전체 이벤트,특별 이벤트
ATTACH;FMTTYPE=image/jpeg:https://kr.kahalaresort.com/wp-content/uploads/1632756412-shutterstock_410084188_thumbnail.jpg
END:VEVENT
BEGIN:VEVENT
DTSTART;VALUE=DATE:20260415
DTEND;VALUE=DATE:20260416
DTSTAMP:20260422T094117
CREATED:20251004T042115Z
LAST-MODIFIED:20260122T223837Z
UID:10021115-1776211200-1776297599@kr.kahalaresort.com
SUMMARY:Ocean Education Activity
DESCRIPTION:
URL:https://kr.kahalaresort.com/event/ocean-education-activity/2026-04-15/
LOCATION:at POOLSIDE HALE
CATEGORIES:KISCA,전체 이벤트,특별 이벤트
ATTACH;FMTTYPE=image/jpeg:https://kr.kahalaresort.com/wp-content/uploads/1632756412-shutterstock_410084188_thumbnail.jpg
END:VEVENT
BEGIN:VEVENT
DTSTART;VALUE=DATE:20260416
DTEND;VALUE=DATE:20260417
DTSTAMP:20260422T094117
CREATED:20260303T195534Z
LAST-MODIFIED:20260315T143513Z
UID:10024701-1776297600-1776383999@kr.kahalaresort.com
SUMMARY:Haku Kupe’e Bracelet Making
DESCRIPTION:
URL:https://kr.kahalaresort.com/event/haku-kupee-bracelet-making-2/2026-04-16/
LOCATION:at THE VERANDA
CATEGORIES:KISCA,전체 이벤트,특별 이벤트
ATTACH;FMTTYPE=image/jpeg:https://kr.kahalaresort.com/wp-content/uploads/1657547631-Haku-Kupe-480x480_desktop-1.jpg
END:VEVENT
BEGIN:VEVENT
DTSTART;VALUE=DATE:20260417
DTEND;VALUE=DATE:20260418
DTSTAMP:20260422T094117
CREATED:20251004T042115Z
LAST-MODIFIED:20260122T223837Z
UID:10021116-1776384000-1776470399@kr.kahalaresort.com
SUMMARY:Ocean Education Activity
DESCRIPTION:
URL:https://kr.kahalaresort.com/event/ocean-education-activity/2026-04-17/
LOCATION:at POOLSIDE HALE
CATEGORIES:KISCA,전체 이벤트,특별 이벤트
ATTACH;FMTTYPE=image/jpeg:https://kr.kahalaresort.com/wp-content/uploads/1632756412-shutterstock_410084188_thumbnail.jpg
END:VEVENT
BEGIN:VEVENT
DTSTART;VALUE=DATE:20260419
DTEND;VALUE=DATE:20260420
DTSTAMP:20260422T094117
CREATED:20251004T042615Z
LAST-MODIFIED:20260122T223815Z
UID:10021843-1776556800-1776643199@kr.kahalaresort.com
SUMMARY:Lei laʻi
DESCRIPTION:
URL:https://kr.kahalaresort.com/event/lei-la%ca%bbi/2026-04-19/
LOCATION:at THE VERANDA
CATEGORIES:KISCA,전체 이벤트,특별 이벤트
ATTACH;FMTTYPE=image/jpeg:https://kr.kahalaresort.com/wp-content/uploads/IMG_7951.jpg
END:VEVENT
BEGIN:VEVENT
DTSTART;VALUE=DATE:20260420
DTEND;VALUE=DATE:20260421
DTSTAMP:20260422T094117
CREATED:20251004T041843Z
LAST-MODIFIED:20260122T223713Z
UID:10020799-1776643200-1776729599@kr.kahalaresort.com
SUMMARY:Talk With Dolphin Quest
DESCRIPTION:
URL:https://kr.kahalaresort.com/event/talk-with-dolphin-quest/2026-04-20/
LOCATION:at Dolphin Quest Lagoon
CATEGORIES:KISCA,전체 이벤트,특별 이벤트
ATTACH;FMTTYPE=image/jpeg:https://kr.kahalaresort.com/wp-content/uploads/1634823519-dolphin-480x480-1.jpg
END:VEVENT
BEGIN:VEVENT
DTSTART;VALUE=DATE:20260421
DTEND;VALUE=DATE:20260422
DTSTAMP:20260422T094117
CREATED:20230525T201110Z
LAST-MODIFIED:20260303T193935Z
UID:10024694-1776729600-1776815999@kr.kahalaresort.com
SUMMARY:Lauhala Weaving
DESCRIPTION:
URL:https://kr.kahalaresort.com/event/lauhala-weaving-2/2026-04-21/
LOCATION:at THE VERANDA
CATEGORIES:KISCA,전체 이벤트,특별 이벤트
ATTACH;FMTTYPE=image/jpeg:https://kr.kahalaresort.com/wp-content/uploads/1639071856-Weaving_desktop-1.jpg
END:VEVENT
BEGIN:VEVENT
DTSTART;VALUE=DATE:20260421
DTEND;VALUE=DATE:20260422
DTSTAMP:20260422T094117
CREATED:20251004T042115Z
LAST-MODIFIED:20260122T223837Z
UID:10021117-1776729600-1776815999@kr.kahalaresort.com
SUMMARY:Ocean Education Activity
DESCRIPTION:
URL:https://kr.kahalaresort.com/event/ocean-education-activity/2026-04-21/
LOCATION:at POOLSIDE HALE
CATEGORIES:KISCA,전체 이벤트,특별 이벤트
ATTACH;FMTTYPE=image/jpeg:https://kr.kahalaresort.com/wp-content/uploads/1632756412-shutterstock_410084188_thumbnail.jpg
END:VEVENT
BEGIN:VEVENT
DTSTART;VALUE=DATE:20260422
DTEND;VALUE=DATE:20260423
DTSTAMP:20260422T094117
CREATED:20251004T042115Z
LAST-MODIFIED:20260122T223837Z
UID:10021118-1776816000-1776902399@kr.kahalaresort.com
SUMMARY:Ocean Education Activity
DESCRIPTION:
URL:https://kr.kahalaresort.com/event/ocean-education-activity/2026-04-22/
LOCATION:at POOLSIDE HALE
CATEGORIES:KISCA,전체 이벤트,특별 이벤트
ATTACH;FMTTYPE=image/jpeg:https://kr.kahalaresort.com/wp-content/uploads/1632756412-shutterstock_410084188_thumbnail.jpg
END:VEVENT
BEGIN:VEVENT
DTSTART;VALUE=DATE:20260423
DTEND;VALUE=DATE:20260424
DTSTAMP:20260422T094117
CREATED:20260303T195534Z
LAST-MODIFIED:20260315T143513Z
UID:10024702-1776902400-1776988799@kr.kahalaresort.com
SUMMARY:Haku Kupe’e Bracelet Making
DESCRIPTION:
URL:https://kr.kahalaresort.com/event/haku-kupee-bracelet-making-2/2026-04-23/
LOCATION:at THE VERANDA
CATEGORIES:KISCA,전체 이벤트,특별 이벤트
ATTACH;FMTTYPE=image/jpeg:https://kr.kahalaresort.com/wp-content/uploads/1657547631-Haku-Kupe-480x480_desktop-1.jpg
END:VEVENT
END:VCALENDAR