BEGIN:VCALENDAR
VERSION:2.0
PRODID:-//The Kahala Luxury Hotel &amp; Resort - ECPv6.14.2//NONSGML v1.0//EN
CALSCALE:GREGORIAN
METHOD:PUBLISH
X-WR-CALNAME:The Kahala Luxury Hotel &amp; Resort
X-ORIGINAL-URL:https://kr.kahalaresort.com
X-WR-CALDESC:Events for The Kahala Luxury Hotel &amp; Resort
REFRESH-INTERVAL;VALUE=DURATION:PT1H
X-Robots-Tag:noindex
X-PUBLISHED-TTL:PT1H
BEGIN:VTIMEZONE
TZID:Pacific/Honolulu
BEGIN:STANDARD
TZOFFSETFROM:-1000
TZOFFSETTO:-1000
TZNAME:HST
DTSTART:20260101T000000
END:STANDARD
END:VTIMEZONE
BEGIN:VEVENT
DTSTART;VALUE=DATE:20261014
DTEND;VALUE=DATE:20261015
DTSTAMP:20260424T160848
CREATED:20251004T042115Z
LAST-MODIFIED:20260122T223837Z
UID:10021193-1791936000-1792022399@kr.kahalaresort.com
SUMMARY:Ocean Education Activity
DESCRIPTION:
URL:https://kr.kahalaresort.com/event/ocean-education-activity/2026-10-14/
LOCATION:at POOLSIDE HALE
CATEGORIES:KISCA,전체 이벤트,특별 이벤트
ATTACH;FMTTYPE=image/jpeg:https://kr.kahalaresort.com/wp-content/uploads/1632756412-shutterstock_410084188_thumbnail.jpg
END:VEVENT
BEGIN:VEVENT
DTSTART;VALUE=DATE:20261015
DTEND;VALUE=DATE:20261016
DTSTAMP:20260424T160848
CREATED:20260303T195534Z
LAST-MODIFIED:20260315T143513Z
UID:10024727-1792022400-1792108799@kr.kahalaresort.com
SUMMARY:Haku Kupe’e Bracelet Making
DESCRIPTION:
URL:https://kr.kahalaresort.com/event/haku-kupee-bracelet-making-2/2026-10-15/
LOCATION:at THE VERANDA
CATEGORIES:KISCA,전체 이벤트,특별 이벤트
ATTACH;FMTTYPE=image/jpeg:https://kr.kahalaresort.com/wp-content/uploads/1657547631-Haku-Kupe-480x480_desktop-1.jpg
END:VEVENT
BEGIN:VEVENT
DTSTART;VALUE=DATE:20261016
DTEND;VALUE=DATE:20261017
DTSTAMP:20260424T160848
CREATED:20251004T042115Z
LAST-MODIFIED:20260122T223837Z
UID:10021194-1792108800-1792195199@kr.kahalaresort.com
SUMMARY:Ocean Education Activity
DESCRIPTION:
URL:https://kr.kahalaresort.com/event/ocean-education-activity/2026-10-16/
LOCATION:at POOLSIDE HALE
CATEGORIES:KISCA,전체 이벤트,특별 이벤트
ATTACH;FMTTYPE=image/jpeg:https://kr.kahalaresort.com/wp-content/uploads/1632756412-shutterstock_410084188_thumbnail.jpg
END:VEVENT
BEGIN:VEVENT
DTSTART;VALUE=DATE:20261018
DTEND;VALUE=DATE:20261019
DTSTAMP:20260424T160848
CREATED:20251004T042615Z
LAST-MODIFIED:20260122T223815Z
UID:10021869-1792281600-1792367999@kr.kahalaresort.com
SUMMARY:Lei laʻi
DESCRIPTION:
URL:https://kr.kahalaresort.com/event/lei-la%ca%bbi/2026-10-18/
LOCATION:at THE VERANDA
CATEGORIES:KISCA,전체 이벤트,특별 이벤트
ATTACH;FMTTYPE=image/jpeg:https://kr.kahalaresort.com/wp-content/uploads/IMG_7951.jpg
END:VEVENT
BEGIN:VEVENT
DTSTART;VALUE=DATE:20261019
DTEND;VALUE=DATE:20261020
DTSTAMP:20260424T160848
CREATED:20251004T041843Z
LAST-MODIFIED:20260122T223713Z
UID:10020825-1792368000-1792454399@kr.kahalaresort.com
SUMMARY:Talk With Dolphin Quest
DESCRIPTION:
URL:https://kr.kahalaresort.com/event/talk-with-dolphin-quest/2026-10-19/
LOCATION:at Dolphin Quest Lagoon
CATEGORIES:KISCA,전체 이벤트,특별 이벤트
ATTACH;FMTTYPE=image/jpeg:https://kr.kahalaresort.com/wp-content/uploads/1634823519-dolphin-480x480-1.jpg
END:VEVENT
BEGIN:VEVENT
DTSTART;VALUE=DATE:20261020
DTEND;VALUE=DATE:20261021
DTSTAMP:20260424T160848
CREATED:20251004T042115Z
LAST-MODIFIED:20260122T223837Z
UID:10021195-1792454400-1792540799@kr.kahalaresort.com
SUMMARY:Ocean Education Activity
DESCRIPTION:
URL:https://kr.kahalaresort.com/event/ocean-education-activity/2026-10-20/
LOCATION:at POOLSIDE HALE
CATEGORIES:KISCA,전체 이벤트,특별 이벤트
ATTACH;FMTTYPE=image/jpeg:https://kr.kahalaresort.com/wp-content/uploads/1632756412-shutterstock_410084188_thumbnail.jpg
END:VEVENT
BEGIN:VEVENT
DTSTART;VALUE=DATE:20261021
DTEND;VALUE=DATE:20261022
DTSTAMP:20260424T160848
CREATED:20251004T042115Z
LAST-MODIFIED:20260122T223837Z
UID:10021196-1792540800-1792627199@kr.kahalaresort.com
SUMMARY:Ocean Education Activity
DESCRIPTION:
URL:https://kr.kahalaresort.com/event/ocean-education-activity/2026-10-21/
LOCATION:at POOLSIDE HALE
CATEGORIES:KISCA,전체 이벤트,특별 이벤트
ATTACH;FMTTYPE=image/jpeg:https://kr.kahalaresort.com/wp-content/uploads/1632756412-shutterstock_410084188_thumbnail.jpg
END:VEVENT
BEGIN:VEVENT
DTSTART;VALUE=DATE:20261022
DTEND;VALUE=DATE:20261023
DTSTAMP:20260424T160848
CREATED:20260303T195534Z
LAST-MODIFIED:20260315T143513Z
UID:10024728-1792627200-1792713599@kr.kahalaresort.com
SUMMARY:Haku Kupe’e Bracelet Making
DESCRIPTION:
URL:https://kr.kahalaresort.com/event/haku-kupee-bracelet-making-2/2026-10-22/
LOCATION:at THE VERANDA
CATEGORIES:KISCA,전체 이벤트,특별 이벤트
ATTACH;FMTTYPE=image/jpeg:https://kr.kahalaresort.com/wp-content/uploads/1657547631-Haku-Kupe-480x480_desktop-1.jpg
END:VEVENT
BEGIN:VEVENT
DTSTART;VALUE=DATE:20261023
DTEND;VALUE=DATE:20261024
DTSTAMP:20260424T160848
CREATED:20251004T042115Z
LAST-MODIFIED:20260122T223837Z
UID:10021197-1792713600-1792799999@kr.kahalaresort.com
SUMMARY:Ocean Education Activity
DESCRIPTION:
URL:https://kr.kahalaresort.com/event/ocean-education-activity/2026-10-23/
LOCATION:at POOLSIDE HALE
CATEGORIES:KISCA,전체 이벤트,특별 이벤트
ATTACH;FMTTYPE=image/jpeg:https://kr.kahalaresort.com/wp-content/uploads/1632756412-shutterstock_410084188_thumbnail.jpg
END:VEVENT
BEGIN:VEVENT
DTSTART;VALUE=DATE:20261025
DTEND;VALUE=DATE:20261026
DTSTAMP:20260424T160848
CREATED:20251004T042615Z
LAST-MODIFIED:20260122T223815Z
UID:10021870-1792886400-1792972799@kr.kahalaresort.com
SUMMARY:Lei laʻi
DESCRIPTION:
URL:https://kr.kahalaresort.com/event/lei-la%ca%bbi/2026-10-25/
LOCATION:at THE VERANDA
CATEGORIES:KISCA,전체 이벤트,특별 이벤트
ATTACH;FMTTYPE=image/jpeg:https://kr.kahalaresort.com/wp-content/uploads/IMG_7951.jpg
END:VEVENT
BEGIN:VEVENT
DTSTART;VALUE=DATE:20261026
DTEND;VALUE=DATE:20261027
DTSTAMP:20260424T160848
CREATED:20251004T041843Z
LAST-MODIFIED:20260122T223713Z
UID:10020826-1792972800-1793059199@kr.kahalaresort.com
SUMMARY:Talk With Dolphin Quest
DESCRIPTION:
URL:https://kr.kahalaresort.com/event/talk-with-dolphin-quest/2026-10-26/
LOCATION:at Dolphin Quest Lagoon
CATEGORIES:KISCA,전체 이벤트,특별 이벤트
ATTACH;FMTTYPE=image/jpeg:https://kr.kahalaresort.com/wp-content/uploads/1634823519-dolphin-480x480-1.jpg
END:VEVENT
BEGIN:VEVENT
DTSTART;VALUE=DATE:20261027
DTEND;VALUE=DATE:20261028
DTSTAMP:20260424T160848
CREATED:20251004T042115Z
LAST-MODIFIED:20260122T223837Z
UID:10021198-1793059200-1793145599@kr.kahalaresort.com
SUMMARY:Ocean Education Activity
DESCRIPTION:
URL:https://kr.kahalaresort.com/event/ocean-education-activity/2026-10-27/
LOCATION:at POOLSIDE HALE
CATEGORIES:KISCA,전체 이벤트,특별 이벤트
ATTACH;FMTTYPE=image/jpeg:https://kr.kahalaresort.com/wp-content/uploads/1632756412-shutterstock_410084188_thumbnail.jpg
END:VEVENT
BEGIN:VEVENT
DTSTART;VALUE=DATE:20261028
DTEND;VALUE=DATE:20261029
DTSTAMP:20260424T160848
CREATED:20251004T042115Z
LAST-MODIFIED:20260122T223837Z
UID:10021199-1793145600-1793231999@kr.kahalaresort.com
SUMMARY:Ocean Education Activity
DESCRIPTION:
URL:https://kr.kahalaresort.com/event/ocean-education-activity/2026-10-28/
LOCATION:at POOLSIDE HALE
CATEGORIES:KISCA,전체 이벤트,특별 이벤트
ATTACH;FMTTYPE=image/jpeg:https://kr.kahalaresort.com/wp-content/uploads/1632756412-shutterstock_410084188_thumbnail.jpg
END:VEVENT
BEGIN:VEVENT
DTSTART;VALUE=DATE:20261029
DTEND;VALUE=DATE:20261030
DTSTAMP:20260424T160848
CREATED:20260303T195534Z
LAST-MODIFIED:20260315T143513Z
UID:10024729-1793232000-1793318399@kr.kahalaresort.com
SUMMARY:Haku Kupe’e Bracelet Making
DESCRIPTION:
URL:https://kr.kahalaresort.com/event/haku-kupee-bracelet-making-2/2026-10-29/
LOCATION:at THE VERANDA
CATEGORIES:KISCA,전체 이벤트,특별 이벤트
ATTACH;FMTTYPE=image/jpeg:https://kr.kahalaresort.com/wp-content/uploads/1657547631-Haku-Kupe-480x480_desktop-1.jpg
END:VEVENT
BEGIN:VEVENT
DTSTART;VALUE=DATE:20261030
DTEND;VALUE=DATE:20261031
DTSTAMP:20260424T160848
CREATED:20251004T042115Z
LAST-MODIFIED:20260122T223837Z
UID:10021200-1793318400-1793404799@kr.kahalaresort.com
SUMMARY:Ocean Education Activity
DESCRIPTION:
URL:https://kr.kahalaresort.com/event/ocean-education-activity/2026-10-30/
LOCATION:at POOLSIDE HALE
CATEGORIES:KISCA,전체 이벤트,특별 이벤트
ATTACH;FMTTYPE=image/jpeg:https://kr.kahalaresort.com/wp-content/uploads/1632756412-shutterstock_410084188_thumbnail.jpg
END:VEVENT
BEGIN:VEVENT
DTSTART;VALUE=DATE:20261101
DTEND;VALUE=DATE:20261102
DTSTAMP:20260424T160848
CREATED:20251004T042615Z
LAST-MODIFIED:20260122T223815Z
UID:10021871-1793491200-1793577599@kr.kahalaresort.com
SUMMARY:Lei laʻi
DESCRIPTION:
URL:https://kr.kahalaresort.com/event/lei-la%ca%bbi/2026-11-01/
LOCATION:at THE VERANDA
CATEGORIES:KISCA,전체 이벤트,특별 이벤트
ATTACH;FMTTYPE=image/jpeg:https://kr.kahalaresort.com/wp-content/uploads/IMG_7951.jpg
END:VEVENT
BEGIN:VEVENT
DTSTART;VALUE=DATE:20261102
DTEND;VALUE=DATE:20261103
DTSTAMP:20260424T160848
CREATED:20251004T041843Z
LAST-MODIFIED:20260122T223713Z
UID:10020827-1793577600-1793663999@kr.kahalaresort.com
SUMMARY:Talk With Dolphin Quest
DESCRIPTION:
URL:https://kr.kahalaresort.com/event/talk-with-dolphin-quest/2026-11-02/
LOCATION:at Dolphin Quest Lagoon
CATEGORIES:KISCA,전체 이벤트,특별 이벤트
ATTACH;FMTTYPE=image/jpeg:https://kr.kahalaresort.com/wp-content/uploads/1634823519-dolphin-480x480-1.jpg
END:VEVENT
BEGIN:VEVENT
DTSTART;VALUE=DATE:20261103
DTEND;VALUE=DATE:20261104
DTSTAMP:20260424T160848
CREATED:20251004T042115Z
LAST-MODIFIED:20260122T223837Z
UID:10021201-1793664000-1793750399@kr.kahalaresort.com
SUMMARY:Ocean Education Activity
DESCRIPTION:
URL:https://kr.kahalaresort.com/event/ocean-education-activity/2026-11-03/
LOCATION:at POOLSIDE HALE
CATEGORIES:KISCA,전체 이벤트,특별 이벤트
ATTACH;FMTTYPE=image/jpeg:https://kr.kahalaresort.com/wp-content/uploads/1632756412-shutterstock_410084188_thumbnail.jpg
END:VEVENT
BEGIN:VEVENT
DTSTART;VALUE=DATE:20261104
DTEND;VALUE=DATE:20261105
DTSTAMP:20260424T160848
CREATED:20251004T042115Z
LAST-MODIFIED:20260122T223837Z
UID:10021202-1793750400-1793836799@kr.kahalaresort.com
SUMMARY:Ocean Education Activity
DESCRIPTION:
URL:https://kr.kahalaresort.com/event/ocean-education-activity/2026-11-04/
LOCATION:at POOLSIDE HALE
CATEGORIES:KISCA,전체 이벤트,특별 이벤트
ATTACH;FMTTYPE=image/jpeg:https://kr.kahalaresort.com/wp-content/uploads/1632756412-shutterstock_410084188_thumbnail.jpg
END:VEVENT
BEGIN:VEVENT
DTSTART;VALUE=DATE:20261105
DTEND;VALUE=DATE:20261106
DTSTAMP:20260424T160848
CREATED:20260303T195534Z
LAST-MODIFIED:20260315T143513Z
UID:10024730-1793836800-1793923199@kr.kahalaresort.com
SUMMARY:Haku Kupe’e Bracelet Making
DESCRIPTION:
URL:https://kr.kahalaresort.com/event/haku-kupee-bracelet-making-2/2026-11-05/
LOCATION:at THE VERANDA
CATEGORIES:KISCA,전체 이벤트,특별 이벤트
ATTACH;FMTTYPE=image/jpeg:https://kr.kahalaresort.com/wp-content/uploads/1657547631-Haku-Kupe-480x480_desktop-1.jpg
END:VEVENT
BEGIN:VEVENT
DTSTART;VALUE=DATE:20261106
DTEND;VALUE=DATE:20261107
DTSTAMP:20260424T160848
CREATED:20251004T042115Z
LAST-MODIFIED:20260122T223837Z
UID:10021203-1793923200-1794009599@kr.kahalaresort.com
SUMMARY:Ocean Education Activity
DESCRIPTION:
URL:https://kr.kahalaresort.com/event/ocean-education-activity/2026-11-06/
LOCATION:at POOLSIDE HALE
CATEGORIES:KISCA,전체 이벤트,특별 이벤트
ATTACH;FMTTYPE=image/jpeg:https://kr.kahalaresort.com/wp-content/uploads/1632756412-shutterstock_410084188_thumbnail.jpg
END:VEVENT
BEGIN:VEVENT
DTSTART;VALUE=DATE:20261108
DTEND;VALUE=DATE:20261109
DTSTAMP:20260424T160848
CREATED:20251004T042615Z
LAST-MODIFIED:20260122T223815Z
UID:10021872-1794096000-1794182399@kr.kahalaresort.com
SUMMARY:Lei laʻi
DESCRIPTION:
URL:https://kr.kahalaresort.com/event/lei-la%ca%bbi/2026-11-08/
LOCATION:at THE VERANDA
CATEGORIES:KISCA,전체 이벤트,특별 이벤트
ATTACH;FMTTYPE=image/jpeg:https://kr.kahalaresort.com/wp-content/uploads/IMG_7951.jpg
END:VEVENT
BEGIN:VEVENT
DTSTART;VALUE=DATE:20261109
DTEND;VALUE=DATE:20261110
DTSTAMP:20260424T160848
CREATED:20251004T041843Z
LAST-MODIFIED:20260122T223713Z
UID:10020828-1794182400-1794268799@kr.kahalaresort.com
SUMMARY:Talk With Dolphin Quest
DESCRIPTION:
URL:https://kr.kahalaresort.com/event/talk-with-dolphin-quest/2026-11-09/
LOCATION:at Dolphin Quest Lagoon
CATEGORIES:KISCA,전체 이벤트,특별 이벤트
ATTACH;FMTTYPE=image/jpeg:https://kr.kahalaresort.com/wp-content/uploads/1634823519-dolphin-480x480-1.jpg
END:VEVENT
BEGIN:VEVENT
DTSTART;VALUE=DATE:20261110
DTEND;VALUE=DATE:20261111
DTSTAMP:20260424T160848
CREATED:20251004T042115Z
LAST-MODIFIED:20260122T223837Z
UID:10021204-1794268800-1794355199@kr.kahalaresort.com
SUMMARY:Ocean Education Activity
DESCRIPTION:
URL:https://kr.kahalaresort.com/event/ocean-education-activity/2026-11-10/
LOCATION:at POOLSIDE HALE
CATEGORIES:KISCA,전체 이벤트,특별 이벤트
ATTACH;FMTTYPE=image/jpeg:https://kr.kahalaresort.com/wp-content/uploads/1632756412-shutterstock_410084188_thumbnail.jpg
END:VEVENT
BEGIN:VEVENT
DTSTART;VALUE=DATE:20261111
DTEND;VALUE=DATE:20261112
DTSTAMP:20260424T160848
CREATED:20251004T042115Z
LAST-MODIFIED:20260122T223837Z
UID:10021205-1794355200-1794441599@kr.kahalaresort.com
SUMMARY:Ocean Education Activity
DESCRIPTION:
URL:https://kr.kahalaresort.com/event/ocean-education-activity/2026-11-11/
LOCATION:at POOLSIDE HALE
CATEGORIES:KISCA,전체 이벤트,특별 이벤트
ATTACH;FMTTYPE=image/jpeg:https://kr.kahalaresort.com/wp-content/uploads/1632756412-shutterstock_410084188_thumbnail.jpg
END:VEVENT
BEGIN:VEVENT
DTSTART;VALUE=DATE:20261112
DTEND;VALUE=DATE:20261113
DTSTAMP:20260424T160848
CREATED:20260303T195534Z
LAST-MODIFIED:20260315T143513Z
UID:10024731-1794441600-1794527999@kr.kahalaresort.com
SUMMARY:Haku Kupe’e Bracelet Making
DESCRIPTION:
URL:https://kr.kahalaresort.com/event/haku-kupee-bracelet-making-2/2026-11-12/
LOCATION:at THE VERANDA
CATEGORIES:KISCA,전체 이벤트,특별 이벤트
ATTACH;FMTTYPE=image/jpeg:https://kr.kahalaresort.com/wp-content/uploads/1657547631-Haku-Kupe-480x480_desktop-1.jpg
END:VEVENT
BEGIN:VEVENT
DTSTART;VALUE=DATE:20261113
DTEND;VALUE=DATE:20261114
DTSTAMP:20260424T160848
CREATED:20251004T042115Z
LAST-MODIFIED:20260122T223837Z
UID:10021206-1794528000-1794614399@kr.kahalaresort.com
SUMMARY:Ocean Education Activity
DESCRIPTION:
URL:https://kr.kahalaresort.com/event/ocean-education-activity/2026-11-13/
LOCATION:at POOLSIDE HALE
CATEGORIES:KISCA,전체 이벤트,특별 이벤트
ATTACH;FMTTYPE=image/jpeg:https://kr.kahalaresort.com/wp-content/uploads/1632756412-shutterstock_410084188_thumbnail.jpg
END:VEVENT
BEGIN:VEVENT
DTSTART;VALUE=DATE:20261115
DTEND;VALUE=DATE:20261116
DTSTAMP:20260424T160848
CREATED:20251004T042615Z
LAST-MODIFIED:20260122T223815Z
UID:10021873-1794700800-1794787199@kr.kahalaresort.com
SUMMARY:Lei laʻi
DESCRIPTION:
URL:https://kr.kahalaresort.com/event/lei-la%ca%bbi/2026-11-15/
LOCATION:at THE VERANDA
CATEGORIES:KISCA,전체 이벤트,특별 이벤트
ATTACH;FMTTYPE=image/jpeg:https://kr.kahalaresort.com/wp-content/uploads/IMG_7951.jpg
END:VEVENT
BEGIN:VEVENT
DTSTART;VALUE=DATE:20261116
DTEND;VALUE=DATE:20261117
DTSTAMP:20260424T160848
CREATED:20251004T041843Z
LAST-MODIFIED:20260122T223713Z
UID:10020829-1794787200-1794873599@kr.kahalaresort.com
SUMMARY:Talk With Dolphin Quest
DESCRIPTION:
URL:https://kr.kahalaresort.com/event/talk-with-dolphin-quest/2026-11-16/
LOCATION:at Dolphin Quest Lagoon
CATEGORIES:KISCA,전체 이벤트,특별 이벤트
ATTACH;FMTTYPE=image/jpeg:https://kr.kahalaresort.com/wp-content/uploads/1634823519-dolphin-480x480-1.jpg
END:VEVENT
BEGIN:VEVENT
DTSTART;VALUE=DATE:20261117
DTEND;VALUE=DATE:20261118
DTSTAMP:20260424T160848
CREATED:20251004T042115Z
LAST-MODIFIED:20260122T223837Z
UID:10021207-1794873600-1794959999@kr.kahalaresort.com
SUMMARY:Ocean Education Activity
DESCRIPTION:
URL:https://kr.kahalaresort.com/event/ocean-education-activity/2026-11-17/
LOCATION:at POOLSIDE HALE
CATEGORIES:KISCA,전체 이벤트,특별 이벤트
ATTACH;FMTTYPE=image/jpeg:https://kr.kahalaresort.com/wp-content/uploads/1632756412-shutterstock_410084188_thumbnail.jpg
END:VEVENT
END:VCALENDAR