BEGIN:VCALENDAR
VERSION:2.0
PRODID:-//The Kahala Luxury Hotel &amp; Resort - ECPv6.14.2//NONSGML v1.0//EN
CALSCALE:GREGORIAN
METHOD:PUBLISH
X-ORIGINAL-URL:https://kr.kahalaresort.com
X-WR-CALDESC:Events for The Kahala Luxury Hotel &amp; Resort
REFRESH-INTERVAL;VALUE=DURATION:PT1H
X-Robots-Tag:noindex
X-PUBLISHED-TTL:PT1H
BEGIN:VTIMEZONE
TZID:Pacific/Honolulu
BEGIN:STANDARD
TZOFFSETFROM:-1000
TZOFFSETTO:-1000
TZNAME:HST
DTSTART:20270101T000000
END:STANDARD
END:VTIMEZONE
BEGIN:VEVENT
DTSTART;VALUE=DATE:20270501
DTEND;VALUE=DATE:20270502
DTSTAMP:20260420T162532
CREATED:20260303T200533Z
LAST-MODIFIED:20260303T200554Z
UID:10025183-1809129600-1809215999@kr.kahalaresort.com
SUMMARY:CHI Fitness Class: Yoga
DESCRIPTION:
URL:https://kr.kahalaresort.com/event/chi-fitness-class-yoga-2-2-2-2/2027-05-01/
LOCATION:at CHI Fitness
CATEGORIES:전체 이벤트,특별 이벤트
ATTACH;FMTTYPE=image/jpeg:https://kr.kahalaresort.com/wp-content/uploads/Yoga-3-revised.jpg
END:VEVENT
BEGIN:VEVENT
DTSTART;VALUE=DATE:20270502
DTEND;VALUE=DATE:20270503
DTSTAMP:20260420T162532
CREATED:20260303T200533Z
LAST-MODIFIED:20260303T200554Z
UID:10025184-1809216000-1809302399@kr.kahalaresort.com
SUMMARY:CHI Fitness Class: Yoga
DESCRIPTION:
URL:https://kr.kahalaresort.com/event/chi-fitness-class-yoga-2-2-2-2/2027-05-02/
LOCATION:at CHI Fitness
CATEGORIES:전체 이벤트,특별 이벤트
ATTACH;FMTTYPE=image/jpeg:https://kr.kahalaresort.com/wp-content/uploads/Yoga-3-revised.jpg
END:VEVENT
BEGIN:VEVENT
DTSTART;VALUE=DATE:20270503
DTEND;VALUE=DATE:20270504
DTSTAMP:20260420T162532
CREATED:20260303T200533Z
LAST-MODIFIED:20260303T200554Z
UID:10025185-1809302400-1809388799@kr.kahalaresort.com
SUMMARY:CHI Fitness Class: Yoga
DESCRIPTION:
URL:https://kr.kahalaresort.com/event/chi-fitness-class-yoga-2-2-2-2/2027-05-03/
LOCATION:at CHI Fitness
CATEGORIES:전체 이벤트,특별 이벤트
ATTACH;FMTTYPE=image/jpeg:https://kr.kahalaresort.com/wp-content/uploads/Yoga-3-revised.jpg
END:VEVENT
BEGIN:VEVENT
DTSTART;VALUE=DATE:20270504
DTEND;VALUE=DATE:20270505
DTSTAMP:20260420T162532
CREATED:20260303T200533Z
LAST-MODIFIED:20260303T200554Z
UID:10025186-1809388800-1809475199@kr.kahalaresort.com
SUMMARY:CHI Fitness Class: Yoga
DESCRIPTION:
URL:https://kr.kahalaresort.com/event/chi-fitness-class-yoga-2-2-2-2/2027-05-04/
LOCATION:at CHI Fitness
CATEGORIES:전체 이벤트,특별 이벤트
ATTACH;FMTTYPE=image/jpeg:https://kr.kahalaresort.com/wp-content/uploads/Yoga-3-revised.jpg
END:VEVENT
BEGIN:VEVENT
DTSTART;VALUE=DATE:20270505
DTEND;VALUE=DATE:20270506
DTSTAMP:20260420T162532
CREATED:20260303T200533Z
LAST-MODIFIED:20260303T200554Z
UID:10025187-1809475200-1809561599@kr.kahalaresort.com
SUMMARY:CHI Fitness Class: Yoga
DESCRIPTION:
URL:https://kr.kahalaresort.com/event/chi-fitness-class-yoga-2-2-2-2/2027-05-05/
LOCATION:at CHI Fitness
CATEGORIES:전체 이벤트,특별 이벤트
ATTACH;FMTTYPE=image/jpeg:https://kr.kahalaresort.com/wp-content/uploads/Yoga-3-revised.jpg
END:VEVENT
BEGIN:VEVENT
DTSTART;VALUE=DATE:20270506
DTEND;VALUE=DATE:20270507
DTSTAMP:20260420T162532
CREATED:20260303T195534Z
LAST-MODIFIED:20260315T143513Z
UID:10024756-1809561600-1809647999@kr.kahalaresort.com
SUMMARY:Haku Kupe’e Bracelet Making
DESCRIPTION:
URL:https://kr.kahalaresort.com/event/haku-kupee-bracelet-making-2/2027-05-06/
LOCATION:at THE VERANDA
CATEGORIES:KISCA,전체 이벤트,특별 이벤트
ATTACH;FMTTYPE=image/jpeg:https://kr.kahalaresort.com/wp-content/uploads/1657547631-Haku-Kupe-480x480_desktop-1.jpg
END:VEVENT
BEGIN:VEVENT
DTSTART;VALUE=DATE:20270506
DTEND;VALUE=DATE:20270507
DTSTAMP:20260420T162532
CREATED:20260303T200533Z
LAST-MODIFIED:20260303T200554Z
UID:10025188-1809561600-1809647999@kr.kahalaresort.com
SUMMARY:CHI Fitness Class: Yoga
DESCRIPTION:
URL:https://kr.kahalaresort.com/event/chi-fitness-class-yoga-2-2-2-2/2027-05-06/
LOCATION:at CHI Fitness
CATEGORIES:전체 이벤트,특별 이벤트
ATTACH;FMTTYPE=image/jpeg:https://kr.kahalaresort.com/wp-content/uploads/Yoga-3-revised.jpg
END:VEVENT
BEGIN:VEVENT
DTSTART;VALUE=DATE:20270507
DTEND;VALUE=DATE:20270508
DTSTAMP:20260420T162532
CREATED:20260303T200533Z
LAST-MODIFIED:20260303T200554Z
UID:10025189-1809648000-1809734399@kr.kahalaresort.com
SUMMARY:CHI Fitness Class: Yoga
DESCRIPTION:
URL:https://kr.kahalaresort.com/event/chi-fitness-class-yoga-2-2-2-2/2027-05-07/
LOCATION:at CHI Fitness
CATEGORIES:전체 이벤트,특별 이벤트
ATTACH;FMTTYPE=image/jpeg:https://kr.kahalaresort.com/wp-content/uploads/Yoga-3-revised.jpg
END:VEVENT
BEGIN:VEVENT
DTSTART;VALUE=DATE:20270508
DTEND;VALUE=DATE:20270509
DTSTAMP:20260420T162532
CREATED:20260303T200533Z
LAST-MODIFIED:20260303T200554Z
UID:10025190-1809734400-1809820799@kr.kahalaresort.com
SUMMARY:CHI Fitness Class: Yoga
DESCRIPTION:
URL:https://kr.kahalaresort.com/event/chi-fitness-class-yoga-2-2-2-2/2027-05-08/
LOCATION:at CHI Fitness
CATEGORIES:전체 이벤트,특별 이벤트
ATTACH;FMTTYPE=image/jpeg:https://kr.kahalaresort.com/wp-content/uploads/Yoga-3-revised.jpg
END:VEVENT
BEGIN:VEVENT
DTSTART;VALUE=DATE:20270509
DTEND;VALUE=DATE:20270510
DTSTAMP:20260420T162532
CREATED:20260303T200533Z
LAST-MODIFIED:20260303T200554Z
UID:10025191-1809820800-1809907199@kr.kahalaresort.com
SUMMARY:CHI Fitness Class: Yoga
DESCRIPTION:
URL:https://kr.kahalaresort.com/event/chi-fitness-class-yoga-2-2-2-2/2027-05-09/
LOCATION:at CHI Fitness
CATEGORIES:전체 이벤트,특별 이벤트
ATTACH;FMTTYPE=image/jpeg:https://kr.kahalaresort.com/wp-content/uploads/Yoga-3-revised.jpg
END:VEVENT
BEGIN:VEVENT
DTSTART;VALUE=DATE:20270510
DTEND;VALUE=DATE:20270511
DTSTAMP:20260420T162532
CREATED:20260303T200533Z
LAST-MODIFIED:20260303T200554Z
UID:10025192-1809907200-1809993599@kr.kahalaresort.com
SUMMARY:CHI Fitness Class: Yoga
DESCRIPTION:
URL:https://kr.kahalaresort.com/event/chi-fitness-class-yoga-2-2-2-2/2027-05-10/
LOCATION:at CHI Fitness
CATEGORIES:전체 이벤트,특별 이벤트
ATTACH;FMTTYPE=image/jpeg:https://kr.kahalaresort.com/wp-content/uploads/Yoga-3-revised.jpg
END:VEVENT
BEGIN:VEVENT
DTSTART;VALUE=DATE:20270511
DTEND;VALUE=DATE:20270512
DTSTAMP:20260420T162532
CREATED:20260303T200533Z
LAST-MODIFIED:20260303T200554Z
UID:10025193-1809993600-1810079999@kr.kahalaresort.com
SUMMARY:CHI Fitness Class: Yoga
DESCRIPTION:
URL:https://kr.kahalaresort.com/event/chi-fitness-class-yoga-2-2-2-2/2027-05-11/
LOCATION:at CHI Fitness
CATEGORIES:전체 이벤트,특별 이벤트
ATTACH;FMTTYPE=image/jpeg:https://kr.kahalaresort.com/wp-content/uploads/Yoga-3-revised.jpg
END:VEVENT
BEGIN:VEVENT
DTSTART;VALUE=DATE:20270512
DTEND;VALUE=DATE:20270513
DTSTAMP:20260420T162532
CREATED:20260303T200533Z
LAST-MODIFIED:20260303T200554Z
UID:10025194-1810080000-1810166399@kr.kahalaresort.com
SUMMARY:CHI Fitness Class: Yoga
DESCRIPTION:
URL:https://kr.kahalaresort.com/event/chi-fitness-class-yoga-2-2-2-2/2027-05-12/
LOCATION:at CHI Fitness
CATEGORIES:전체 이벤트,특별 이벤트
ATTACH;FMTTYPE=image/jpeg:https://kr.kahalaresort.com/wp-content/uploads/Yoga-3-revised.jpg
END:VEVENT
BEGIN:VEVENT
DTSTART;VALUE=DATE:20270513
DTEND;VALUE=DATE:20270514
DTSTAMP:20260420T162532
CREATED:20260303T195534Z
LAST-MODIFIED:20260315T143513Z
UID:10024757-1810166400-1810252799@kr.kahalaresort.com
SUMMARY:Haku Kupe’e Bracelet Making
DESCRIPTION:
URL:https://kr.kahalaresort.com/event/haku-kupee-bracelet-making-2/2027-05-13/
LOCATION:at THE VERANDA
CATEGORIES:KISCA,전체 이벤트,특별 이벤트
ATTACH;FMTTYPE=image/jpeg:https://kr.kahalaresort.com/wp-content/uploads/1657547631-Haku-Kupe-480x480_desktop-1.jpg
END:VEVENT
BEGIN:VEVENT
DTSTART;VALUE=DATE:20270513
DTEND;VALUE=DATE:20270514
DTSTAMP:20260420T162532
CREATED:20260303T200533Z
LAST-MODIFIED:20260303T200554Z
UID:10025195-1810166400-1810252799@kr.kahalaresort.com
SUMMARY:CHI Fitness Class: Yoga
DESCRIPTION:
URL:https://kr.kahalaresort.com/event/chi-fitness-class-yoga-2-2-2-2/2027-05-13/
LOCATION:at CHI Fitness
CATEGORIES:전체 이벤트,특별 이벤트
ATTACH;FMTTYPE=image/jpeg:https://kr.kahalaresort.com/wp-content/uploads/Yoga-3-revised.jpg
END:VEVENT
BEGIN:VEVENT
DTSTART;VALUE=DATE:20270514
DTEND;VALUE=DATE:20270515
DTSTAMP:20260420T162532
CREATED:20260303T200533Z
LAST-MODIFIED:20260303T200554Z
UID:10025196-1810252800-1810339199@kr.kahalaresort.com
SUMMARY:CHI Fitness Class: Yoga
DESCRIPTION:
URL:https://kr.kahalaresort.com/event/chi-fitness-class-yoga-2-2-2-2/2027-05-14/
LOCATION:at CHI Fitness
CATEGORIES:전체 이벤트,특별 이벤트
ATTACH;FMTTYPE=image/jpeg:https://kr.kahalaresort.com/wp-content/uploads/Yoga-3-revised.jpg
END:VEVENT
BEGIN:VEVENT
DTSTART;VALUE=DATE:20270515
DTEND;VALUE=DATE:20270516
DTSTAMP:20260420T162532
CREATED:20260303T200533Z
LAST-MODIFIED:20260303T200554Z
UID:10025197-1810339200-1810425599@kr.kahalaresort.com
SUMMARY:CHI Fitness Class: Yoga
DESCRIPTION:
URL:https://kr.kahalaresort.com/event/chi-fitness-class-yoga-2-2-2-2/2027-05-15/
LOCATION:at CHI Fitness
CATEGORIES:전체 이벤트,특별 이벤트
ATTACH;FMTTYPE=image/jpeg:https://kr.kahalaresort.com/wp-content/uploads/Yoga-3-revised.jpg
END:VEVENT
BEGIN:VEVENT
DTSTART;VALUE=DATE:20270516
DTEND;VALUE=DATE:20270517
DTSTAMP:20260420T162532
CREATED:20260303T200533Z
LAST-MODIFIED:20260303T200554Z
UID:10025198-1810425600-1810511999@kr.kahalaresort.com
SUMMARY:CHI Fitness Class: Yoga
DESCRIPTION:
URL:https://kr.kahalaresort.com/event/chi-fitness-class-yoga-2-2-2-2/2027-05-16/
LOCATION:at CHI Fitness
CATEGORIES:전체 이벤트,특별 이벤트
ATTACH;FMTTYPE=image/jpeg:https://kr.kahalaresort.com/wp-content/uploads/Yoga-3-revised.jpg
END:VEVENT
BEGIN:VEVENT
DTSTART;VALUE=DATE:20270517
DTEND;VALUE=DATE:20270518
DTSTAMP:20260420T162532
CREATED:20260303T200533Z
LAST-MODIFIED:20260303T200554Z
UID:10025199-1810512000-1810598399@kr.kahalaresort.com
SUMMARY:CHI Fitness Class: Yoga
DESCRIPTION:
URL:https://kr.kahalaresort.com/event/chi-fitness-class-yoga-2-2-2-2/2027-05-17/
LOCATION:at CHI Fitness
CATEGORIES:전체 이벤트,특별 이벤트
ATTACH;FMTTYPE=image/jpeg:https://kr.kahalaresort.com/wp-content/uploads/Yoga-3-revised.jpg
END:VEVENT
BEGIN:VEVENT
DTSTART;VALUE=DATE:20270518
DTEND;VALUE=DATE:20270519
DTSTAMP:20260420T162532
CREATED:20260303T200533Z
LAST-MODIFIED:20260303T200554Z
UID:10025200-1810598400-1810684799@kr.kahalaresort.com
SUMMARY:CHI Fitness Class: Yoga
DESCRIPTION:
URL:https://kr.kahalaresort.com/event/chi-fitness-class-yoga-2-2-2-2/2027-05-18/
LOCATION:at CHI Fitness
CATEGORIES:전체 이벤트,특별 이벤트
ATTACH;FMTTYPE=image/jpeg:https://kr.kahalaresort.com/wp-content/uploads/Yoga-3-revised.jpg
END:VEVENT
BEGIN:VEVENT
DTSTART;VALUE=DATE:20270519
DTEND;VALUE=DATE:20270520
DTSTAMP:20260420T162532
CREATED:20260303T200533Z
LAST-MODIFIED:20260303T200554Z
UID:10025201-1810684800-1810771199@kr.kahalaresort.com
SUMMARY:CHI Fitness Class: Yoga
DESCRIPTION:
URL:https://kr.kahalaresort.com/event/chi-fitness-class-yoga-2-2-2-2/2027-05-19/
LOCATION:at CHI Fitness
CATEGORIES:전체 이벤트,특별 이벤트
ATTACH;FMTTYPE=image/jpeg:https://kr.kahalaresort.com/wp-content/uploads/Yoga-3-revised.jpg
END:VEVENT
BEGIN:VEVENT
DTSTART;VALUE=DATE:20270520
DTEND;VALUE=DATE:20270521
DTSTAMP:20260420T162532
CREATED:20260303T195534Z
LAST-MODIFIED:20260315T143513Z
UID:10024758-1810771200-1810857599@kr.kahalaresort.com
SUMMARY:Haku Kupe’e Bracelet Making
DESCRIPTION:
URL:https://kr.kahalaresort.com/event/haku-kupee-bracelet-making-2/2027-05-20/
LOCATION:at THE VERANDA
CATEGORIES:KISCA,전체 이벤트,특별 이벤트
ATTACH;FMTTYPE=image/jpeg:https://kr.kahalaresort.com/wp-content/uploads/1657547631-Haku-Kupe-480x480_desktop-1.jpg
END:VEVENT
BEGIN:VEVENT
DTSTART;VALUE=DATE:20270520
DTEND;VALUE=DATE:20270521
DTSTAMP:20260420T162532
CREATED:20260303T200533Z
LAST-MODIFIED:20260303T200554Z
UID:10025202-1810771200-1810857599@kr.kahalaresort.com
SUMMARY:CHI Fitness Class: Yoga
DESCRIPTION:
URL:https://kr.kahalaresort.com/event/chi-fitness-class-yoga-2-2-2-2/2027-05-20/
LOCATION:at CHI Fitness
CATEGORIES:전체 이벤트,특별 이벤트
ATTACH;FMTTYPE=image/jpeg:https://kr.kahalaresort.com/wp-content/uploads/Yoga-3-revised.jpg
END:VEVENT
BEGIN:VEVENT
DTSTART;VALUE=DATE:20270521
DTEND;VALUE=DATE:20270522
DTSTAMP:20260420T162532
CREATED:20260303T200533Z
LAST-MODIFIED:20260303T200554Z
UID:10025203-1810857600-1810943999@kr.kahalaresort.com
SUMMARY:CHI Fitness Class: Yoga
DESCRIPTION:
URL:https://kr.kahalaresort.com/event/chi-fitness-class-yoga-2-2-2-2/2027-05-21/
LOCATION:at CHI Fitness
CATEGORIES:전체 이벤트,특별 이벤트
ATTACH;FMTTYPE=image/jpeg:https://kr.kahalaresort.com/wp-content/uploads/Yoga-3-revised.jpg
END:VEVENT
BEGIN:VEVENT
DTSTART;VALUE=DATE:20270522
DTEND;VALUE=DATE:20270523
DTSTAMP:20260420T162532
CREATED:20260303T200533Z
LAST-MODIFIED:20260303T200554Z
UID:10025204-1810944000-1811030399@kr.kahalaresort.com
SUMMARY:CHI Fitness Class: Yoga
DESCRIPTION:
URL:https://kr.kahalaresort.com/event/chi-fitness-class-yoga-2-2-2-2/2027-05-22/
LOCATION:at CHI Fitness
CATEGORIES:전체 이벤트,특별 이벤트
ATTACH;FMTTYPE=image/jpeg:https://kr.kahalaresort.com/wp-content/uploads/Yoga-3-revised.jpg
END:VEVENT
BEGIN:VEVENT
DTSTART;VALUE=DATE:20270523
DTEND;VALUE=DATE:20270524
DTSTAMP:20260420T162532
CREATED:20260303T200533Z
LAST-MODIFIED:20260303T200554Z
UID:10025205-1811030400-1811116799@kr.kahalaresort.com
SUMMARY:CHI Fitness Class: Yoga
DESCRIPTION:
URL:https://kr.kahalaresort.com/event/chi-fitness-class-yoga-2-2-2-2/2027-05-23/
LOCATION:at CHI Fitness
CATEGORIES:전체 이벤트,특별 이벤트
ATTACH;FMTTYPE=image/jpeg:https://kr.kahalaresort.com/wp-content/uploads/Yoga-3-revised.jpg
END:VEVENT
BEGIN:VEVENT
DTSTART;VALUE=DATE:20270524
DTEND;VALUE=DATE:20270525
DTSTAMP:20260420T162532
CREATED:20260303T200533Z
LAST-MODIFIED:20260303T200554Z
UID:10025206-1811116800-1811203199@kr.kahalaresort.com
SUMMARY:CHI Fitness Class: Yoga
DESCRIPTION:
URL:https://kr.kahalaresort.com/event/chi-fitness-class-yoga-2-2-2-2/2027-05-24/
LOCATION:at CHI Fitness
CATEGORIES:전체 이벤트,특별 이벤트
ATTACH;FMTTYPE=image/jpeg:https://kr.kahalaresort.com/wp-content/uploads/Yoga-3-revised.jpg
END:VEVENT
BEGIN:VEVENT
DTSTART;VALUE=DATE:20270525
DTEND;VALUE=DATE:20270526
DTSTAMP:20260420T162532
CREATED:20260303T200533Z
LAST-MODIFIED:20260303T200554Z
UID:10025207-1811203200-1811289599@kr.kahalaresort.com
SUMMARY:CHI Fitness Class: Yoga
DESCRIPTION:
URL:https://kr.kahalaresort.com/event/chi-fitness-class-yoga-2-2-2-2/2027-05-25/
LOCATION:at CHI Fitness
CATEGORIES:전체 이벤트,특별 이벤트
ATTACH;FMTTYPE=image/jpeg:https://kr.kahalaresort.com/wp-content/uploads/Yoga-3-revised.jpg
END:VEVENT
BEGIN:VEVENT
DTSTART;VALUE=DATE:20270526
DTEND;VALUE=DATE:20270527
DTSTAMP:20260420T162532
CREATED:20260303T200533Z
LAST-MODIFIED:20260303T200554Z
UID:10025208-1811289600-1811375999@kr.kahalaresort.com
SUMMARY:CHI Fitness Class: Yoga
DESCRIPTION:
URL:https://kr.kahalaresort.com/event/chi-fitness-class-yoga-2-2-2-2/2027-05-26/
LOCATION:at CHI Fitness
CATEGORIES:전체 이벤트,특별 이벤트
ATTACH;FMTTYPE=image/jpeg:https://kr.kahalaresort.com/wp-content/uploads/Yoga-3-revised.jpg
END:VEVENT
BEGIN:VEVENT
DTSTART;VALUE=DATE:20270527
DTEND;VALUE=DATE:20270528
DTSTAMP:20260420T162532
CREATED:20260303T195534Z
LAST-MODIFIED:20260315T143513Z
UID:10024759-1811376000-1811462399@kr.kahalaresort.com
SUMMARY:Haku Kupe’e Bracelet Making
DESCRIPTION:
URL:https://kr.kahalaresort.com/event/haku-kupee-bracelet-making-2/2027-05-27/
LOCATION:at THE VERANDA
CATEGORIES:KISCA,전체 이벤트,특별 이벤트
ATTACH;FMTTYPE=image/jpeg:https://kr.kahalaresort.com/wp-content/uploads/1657547631-Haku-Kupe-480x480_desktop-1.jpg
END:VEVENT
END:VCALENDAR