BEGIN:VCALENDAR
VERSION:2.0
PRODID:-//The Kahala Luxury Hotel &amp; Resort - ECPv6.14.2//NONSGML v1.0//EN
CALSCALE:GREGORIAN
METHOD:PUBLISH
X-WR-CALNAME:The Kahala Luxury Hotel &amp; Resort
X-ORIGINAL-URL:https://kr.kahalaresort.com
X-WR-CALDESC:Events for The Kahala Luxury Hotel &amp; Resort
REFRESH-INTERVAL;VALUE=DURATION:PT1H
X-Robots-Tag:noindex
X-PUBLISHED-TTL:PT1H
BEGIN:VTIMEZONE
TZID:Pacific/Honolulu
BEGIN:STANDARD
TZOFFSETFROM:-1000
TZOFFSETTO:-1000
TZNAME:HST
DTSTART:20270101T000000
END:STANDARD
END:VTIMEZONE
BEGIN:VEVENT
DTSTART;VALUE=DATE:20270526
DTEND;VALUE=DATE:20270527
DTSTAMP:20260420T180639
CREATED:20260303T200533Z
LAST-MODIFIED:20260303T200554Z
UID:10025208-1811289600-1811375999@kr.kahalaresort.com
SUMMARY:CHI Fitness Class: Yoga
DESCRIPTION:
URL:https://kr.kahalaresort.com/event/chi-fitness-class-yoga-2-2-2-2/2027-05-26/
LOCATION:at CHI Fitness
CATEGORIES:전체 이벤트,특별 이벤트
ATTACH;FMTTYPE=image/jpeg:https://kr.kahalaresort.com/wp-content/uploads/Yoga-3-revised.jpg
END:VEVENT
BEGIN:VEVENT
DTSTART;VALUE=DATE:20270527
DTEND;VALUE=DATE:20270528
DTSTAMP:20260420T180639
CREATED:20260303T195534Z
LAST-MODIFIED:20260315T143513Z
UID:10024759-1811376000-1811462399@kr.kahalaresort.com
SUMMARY:Haku Kupe’e Bracelet Making
DESCRIPTION:
URL:https://kr.kahalaresort.com/event/haku-kupee-bracelet-making-2/2027-05-27/
LOCATION:at THE VERANDA
CATEGORIES:KISCA,전체 이벤트,특별 이벤트
ATTACH;FMTTYPE=image/jpeg:https://kr.kahalaresort.com/wp-content/uploads/1657547631-Haku-Kupe-480x480_desktop-1.jpg
END:VEVENT
BEGIN:VEVENT
DTSTART;VALUE=DATE:20270527
DTEND;VALUE=DATE:20270528
DTSTAMP:20260420T180639
CREATED:20260303T200533Z
LAST-MODIFIED:20260303T200554Z
UID:10025209-1811376000-1811462399@kr.kahalaresort.com
SUMMARY:CHI Fitness Class: Yoga
DESCRIPTION:
URL:https://kr.kahalaresort.com/event/chi-fitness-class-yoga-2-2-2-2/2027-05-27/
LOCATION:at CHI Fitness
CATEGORIES:전체 이벤트,특별 이벤트
ATTACH;FMTTYPE=image/jpeg:https://kr.kahalaresort.com/wp-content/uploads/Yoga-3-revised.jpg
END:VEVENT
BEGIN:VEVENT
DTSTART;VALUE=DATE:20270528
DTEND;VALUE=DATE:20270529
DTSTAMP:20260420T180639
CREATED:20260303T200533Z
LAST-MODIFIED:20260303T200554Z
UID:10025210-1811462400-1811548799@kr.kahalaresort.com
SUMMARY:CHI Fitness Class: Yoga
DESCRIPTION:
URL:https://kr.kahalaresort.com/event/chi-fitness-class-yoga-2-2-2-2/2027-05-28/
LOCATION:at CHI Fitness
CATEGORIES:전체 이벤트,특별 이벤트
ATTACH;FMTTYPE=image/jpeg:https://kr.kahalaresort.com/wp-content/uploads/Yoga-3-revised.jpg
END:VEVENT
BEGIN:VEVENT
DTSTART;VALUE=DATE:20270529
DTEND;VALUE=DATE:20270530
DTSTAMP:20260420T180639
CREATED:20260303T200533Z
LAST-MODIFIED:20260303T200554Z
UID:10025211-1811548800-1811635199@kr.kahalaresort.com
SUMMARY:CHI Fitness Class: Yoga
DESCRIPTION:
URL:https://kr.kahalaresort.com/event/chi-fitness-class-yoga-2-2-2-2/2027-05-29/
LOCATION:at CHI Fitness
CATEGORIES:전체 이벤트,특별 이벤트
ATTACH;FMTTYPE=image/jpeg:https://kr.kahalaresort.com/wp-content/uploads/Yoga-3-revised.jpg
END:VEVENT
BEGIN:VEVENT
DTSTART;VALUE=DATE:20270530
DTEND;VALUE=DATE:20270531
DTSTAMP:20260420T180639
CREATED:20260303T200533Z
LAST-MODIFIED:20260303T200554Z
UID:10025212-1811635200-1811721599@kr.kahalaresort.com
SUMMARY:CHI Fitness Class: Yoga
DESCRIPTION:
URL:https://kr.kahalaresort.com/event/chi-fitness-class-yoga-2-2-2-2/2027-05-30/
LOCATION:at CHI Fitness
CATEGORIES:전체 이벤트,특별 이벤트
ATTACH;FMTTYPE=image/jpeg:https://kr.kahalaresort.com/wp-content/uploads/Yoga-3-revised.jpg
END:VEVENT
BEGIN:VEVENT
DTSTART;VALUE=DATE:20270531
DTEND;VALUE=DATE:20270601
DTSTAMP:20260420T180639
CREATED:20260303T200533Z
LAST-MODIFIED:20260303T200554Z
UID:10025213-1811721600-1811807999@kr.kahalaresort.com
SUMMARY:CHI Fitness Class: Yoga
DESCRIPTION:
URL:https://kr.kahalaresort.com/event/chi-fitness-class-yoga-2-2-2-2/2027-05-31/
LOCATION:at CHI Fitness
CATEGORIES:전체 이벤트,특별 이벤트
ATTACH;FMTTYPE=image/jpeg:https://kr.kahalaresort.com/wp-content/uploads/Yoga-3-revised.jpg
END:VEVENT
END:VCALENDAR