BEGIN:VCALENDAR
VERSION:2.0
PRODID:-//The Kahala Luxury Hotel &amp; Resort - ECPv6.14.2//NONSGML v1.0//EN
CALSCALE:GREGORIAN
METHOD:PUBLISH
X-WR-CALNAME:The Kahala Luxury Hotel &amp; Resort
X-ORIGINAL-URL:https://kr.kahalaresort.com
X-WR-CALDESC:Events for The Kahala Luxury Hotel &amp; Resort
REFRESH-INTERVAL;VALUE=DURATION:PT1H
X-Robots-Tag:noindex
X-PUBLISHED-TTL:PT1H
BEGIN:VTIMEZONE
TZID:Pacific/Honolulu
BEGIN:STANDARD
TZOFFSETFROM:-1000
TZOFFSETTO:-1000
TZNAME:HST
DTSTART:20270101T000000
END:STANDARD
END:VTIMEZONE
BEGIN:VEVENT
DTSTART;VALUE=DATE:20270325
DTEND;VALUE=DATE:20270326
DTSTAMP:20260425T013957
CREATED:20260303T195534Z
LAST-MODIFIED:20260315T143513Z
UID:10024750-1805932800-1806019199@kr.kahalaresort.com
SUMMARY:Haku Kupe’e Bracelet Making
DESCRIPTION:
URL:https://kr.kahalaresort.com/event/haku-kupee-bracelet-making-2/2027-03-25/
LOCATION:at THE VERANDA
CATEGORIES:KISCA,전체 이벤트,특별 이벤트
ATTACH;FMTTYPE=image/jpeg:https://kr.kahalaresort.com/wp-content/uploads/1657547631-Haku-Kupe-480x480_desktop-1.jpg
END:VEVENT
BEGIN:VEVENT
DTSTART;VALUE=DATE:20270401
DTEND;VALUE=DATE:20270402
DTSTAMP:20260425T013957
CREATED:20260303T195534Z
LAST-MODIFIED:20260315T143513Z
UID:10024751-1806537600-1806623999@kr.kahalaresort.com
SUMMARY:Haku Kupe’e Bracelet Making
DESCRIPTION:
URL:https://kr.kahalaresort.com/event/haku-kupee-bracelet-making-2/2027-04-01/
LOCATION:at THE VERANDA
CATEGORIES:KISCA,전체 이벤트,특별 이벤트
ATTACH;FMTTYPE=image/jpeg:https://kr.kahalaresort.com/wp-content/uploads/1657547631-Haku-Kupe-480x480_desktop-1.jpg
END:VEVENT
BEGIN:VEVENT
DTSTART;VALUE=DATE:20270408
DTEND;VALUE=DATE:20270409
DTSTAMP:20260425T013957
CREATED:20260303T195534Z
LAST-MODIFIED:20260315T143513Z
UID:10024752-1807142400-1807228799@kr.kahalaresort.com
SUMMARY:Haku Kupe’e Bracelet Making
DESCRIPTION:
URL:https://kr.kahalaresort.com/event/haku-kupee-bracelet-making-2/2027-04-08/
LOCATION:at THE VERANDA
CATEGORIES:KISCA,전체 이벤트,특별 이벤트
ATTACH;FMTTYPE=image/jpeg:https://kr.kahalaresort.com/wp-content/uploads/1657547631-Haku-Kupe-480x480_desktop-1.jpg
END:VEVENT
BEGIN:VEVENT
DTSTART;VALUE=DATE:20270415
DTEND;VALUE=DATE:20270416
DTSTAMP:20260425T013957
CREATED:20260303T195534Z
LAST-MODIFIED:20260315T143513Z
UID:10024753-1807747200-1807833599@kr.kahalaresort.com
SUMMARY:Haku Kupe’e Bracelet Making
DESCRIPTION:
URL:https://kr.kahalaresort.com/event/haku-kupee-bracelet-making-2/2027-04-15/
LOCATION:at THE VERANDA
CATEGORIES:KISCA,전체 이벤트,특별 이벤트
ATTACH;FMTTYPE=image/jpeg:https://kr.kahalaresort.com/wp-content/uploads/1657547631-Haku-Kupe-480x480_desktop-1.jpg
END:VEVENT
BEGIN:VEVENT
DTSTART;VALUE=DATE:20270422
DTEND;VALUE=DATE:20270423
DTSTAMP:20260425T013957
CREATED:20260303T195534Z
LAST-MODIFIED:20260315T143513Z
UID:10024754-1808352000-1808438399@kr.kahalaresort.com
SUMMARY:Haku Kupe’e Bracelet Making
DESCRIPTION:
URL:https://kr.kahalaresort.com/event/haku-kupee-bracelet-making-2/2027-04-22/
LOCATION:at THE VERANDA
CATEGORIES:KISCA,전체 이벤트,특별 이벤트
ATTACH;FMTTYPE=image/jpeg:https://kr.kahalaresort.com/wp-content/uploads/1657547631-Haku-Kupe-480x480_desktop-1.jpg
END:VEVENT
BEGIN:VEVENT
DTSTART;VALUE=DATE:20270429
DTEND;VALUE=DATE:20270430
DTSTAMP:20260425T013957
CREATED:20260303T195534Z
LAST-MODIFIED:20260315T143513Z
UID:10024755-1808956800-1809043199@kr.kahalaresort.com
SUMMARY:Haku Kupe’e Bracelet Making
DESCRIPTION:
URL:https://kr.kahalaresort.com/event/haku-kupee-bracelet-making-2/2027-04-29/
LOCATION:at THE VERANDA
CATEGORIES:KISCA,전체 이벤트,특별 이벤트
ATTACH;FMTTYPE=image/jpeg:https://kr.kahalaresort.com/wp-content/uploads/1657547631-Haku-Kupe-480x480_desktop-1.jpg
END:VEVENT
BEGIN:VEVENT
DTSTART;VALUE=DATE:20270506
DTEND;VALUE=DATE:20270507
DTSTAMP:20260425T013957
CREATED:20260303T195534Z
LAST-MODIFIED:20260315T143513Z
UID:10024756-1809561600-1809647999@kr.kahalaresort.com
SUMMARY:Haku Kupe’e Bracelet Making
DESCRIPTION:
URL:https://kr.kahalaresort.com/event/haku-kupee-bracelet-making-2/2027-05-06/
LOCATION:at THE VERANDA
CATEGORIES:KISCA,전체 이벤트,특별 이벤트
ATTACH;FMTTYPE=image/jpeg:https://kr.kahalaresort.com/wp-content/uploads/1657547631-Haku-Kupe-480x480_desktop-1.jpg
END:VEVENT
BEGIN:VEVENT
DTSTART;VALUE=DATE:20270513
DTEND;VALUE=DATE:20270514
DTSTAMP:20260425T013957
CREATED:20260303T195534Z
LAST-MODIFIED:20260315T143513Z
UID:10024757-1810166400-1810252799@kr.kahalaresort.com
SUMMARY:Haku Kupe’e Bracelet Making
DESCRIPTION:
URL:https://kr.kahalaresort.com/event/haku-kupee-bracelet-making-2/2027-05-13/
LOCATION:at THE VERANDA
CATEGORIES:KISCA,전체 이벤트,특별 이벤트
ATTACH;FMTTYPE=image/jpeg:https://kr.kahalaresort.com/wp-content/uploads/1657547631-Haku-Kupe-480x480_desktop-1.jpg
END:VEVENT
BEGIN:VEVENT
DTSTART;VALUE=DATE:20270520
DTEND;VALUE=DATE:20270521
DTSTAMP:20260425T013957
CREATED:20260303T195534Z
LAST-MODIFIED:20260315T143513Z
UID:10024758-1810771200-1810857599@kr.kahalaresort.com
SUMMARY:Haku Kupe’e Bracelet Making
DESCRIPTION:
URL:https://kr.kahalaresort.com/event/haku-kupee-bracelet-making-2/2027-05-20/
LOCATION:at THE VERANDA
CATEGORIES:KISCA,전체 이벤트,특별 이벤트
ATTACH;FMTTYPE=image/jpeg:https://kr.kahalaresort.com/wp-content/uploads/1657547631-Haku-Kupe-480x480_desktop-1.jpg
END:VEVENT
BEGIN:VEVENT
DTSTART;VALUE=DATE:20270527
DTEND;VALUE=DATE:20270528
DTSTAMP:20260425T013957
CREATED:20260303T195534Z
LAST-MODIFIED:20260315T143513Z
UID:10024759-1811376000-1811462399@kr.kahalaresort.com
SUMMARY:Haku Kupe’e Bracelet Making
DESCRIPTION:
URL:https://kr.kahalaresort.com/event/haku-kupee-bracelet-making-2/2027-05-27/
LOCATION:at THE VERANDA
CATEGORIES:KISCA,전체 이벤트,특별 이벤트
ATTACH;FMTTYPE=image/jpeg:https://kr.kahalaresort.com/wp-content/uploads/1657547631-Haku-Kupe-480x480_desktop-1.jpg
END:VEVENT
END:VCALENDAR